BEGIN:VCALENDAR
VERSION:2.0
PRODID:-//Sunridge Middle School - ECPv6.13.0//NONSGML v1.0//EN
CALSCALE:GREGORIAN
METHOD:PUBLISH
X-WR-CALNAME:Sunridge Middle School
X-ORIGINAL-URL:https://sms.pendleton.k12.or.us
X-WR-CALDESC:Events for Sunridge Middle School
REFRESH-INTERVAL;VALUE=DURATION:PT1H
X-Robots-Tag:noindex
X-PUBLISHED-TTL:PT1H
BEGIN:VTIMEZONE
TZID:America/Los_Angeles
BEGIN:DAYLIGHT
TZOFFSETFROM:-0800
TZOFFSETTO:-0700
TZNAME:PDT
DTSTART:20200308T100000
END:DAYLIGHT
BEGIN:STANDARD
TZOFFSETFROM:-0700
TZOFFSETTO:-0800
TZNAME:PST
DTSTART:20201101T090000
END:STANDARD
END:VTIMEZONE
BEGIN:VEVENT
DTSTART;VALUE=DATE:20201125
DTEND;VALUE=DATE:20201128
DTSTAMP:20260421T024533
CREATED:20200529T204719Z
LAST-MODIFIED:20200529T204719Z
UID:10000423-1606262400-1606521599@sms.pendleton.k12.or.us
SUMMARY:Thanksgiving Break
DESCRIPTION:No School
URL:https://sms.pendleton.k12.or.us/event/thanksgiving-break-2/
CATEGORIES:Sunridge Middle School
END:VEVENT
BEGIN:VEVENT
DTSTART;VALUE=DATE:20201125
DTEND;VALUE=DATE:20201128
DTSTAMP:20260421T024533
CREATED:20201125T232933Z
LAST-MODIFIED:20201125T232933Z
UID:10000407-1606262400-1606521599@sms.pendleton.k12.or.us
SUMMARY:Closed for Thanksgiving Break
DESCRIPTION:
URL:https://sms.pendleton.k12.or.us/event/closed-for-thanksgiving-break/
CATEGORIES:District Wide
END:VEVENT
END:VCALENDAR