BEGIN:VCALENDAR
VERSION:2.0
PRODID:-//Sunridge Middle School - ECPv6.13.0//NONSGML v1.0//EN
CALSCALE:GREGORIAN
METHOD:PUBLISH
X-ORIGINAL-URL:https://sms.pendleton.k12.or.us
X-WR-CALDESC:Events for Sunridge Middle School
REFRESH-INTERVAL;VALUE=DURATION:PT1H
X-Robots-Tag:noindex
X-PUBLISHED-TTL:PT1H
BEGIN:VTIMEZONE
TZID:America/Los_Angeles
BEGIN:DAYLIGHT
TZOFFSETFROM:-0800
TZOFFSETTO:-0700
TZNAME:PDT
DTSTART:20240310T100000
END:DAYLIGHT
BEGIN:STANDARD
TZOFFSETFROM:-0700
TZOFFSETTO:-0800
TZNAME:PST
DTSTART:20241103T090000
END:STANDARD
END:VTIMEZONE
BEGIN:VEVENT
DTSTART;TZID=America/Los_Angeles:20240708T180000
DTEND;TZID=America/Los_Angeles:20240708T190000
DTSTAMP:20260421T030841
CREATED:20230725T193721Z
LAST-MODIFIED:20240708T175152Z
UID:10000812-1720461600-1720465200@sms.pendleton.k12.or.us
SUMMARY:Board Meeting
DESCRIPTION:Held in the District Office Boardroom.\n6:00-7:00 pm
URL:https://sms.pendleton.k12.or.us/event/board-meeting-36/
CATEGORIES:District Wide
END:VEVENT
BEGIN:VEVENT
DTSTART;TZID=America/Los_Angeles:20240617T180000
DTEND;TZID=America/Los_Angeles:20240617T190000
DTSTAMP:20260421T030841
CREATED:20230725T193721Z
LAST-MODIFIED:20240617T165053Z
UID:10000811-1718647200-1718650800@sms.pendleton.k12.or.us
SUMMARY:Board Meeting
DESCRIPTION:Held in the District Office Boardroom.\n6:00-7:00 pm
URL:https://sms.pendleton.k12.or.us/event/board-meeting-35/
CATEGORIES:District Wide
END:VEVENT
BEGIN:VEVENT
DTSTART;VALUE=DATE:20240607
DTEND;VALUE=DATE:20240608
DTSTAMP:20260421T030841
CREATED:20230609T162245Z
LAST-MODIFIED:20240607T155202Z
UID:10000763-1717718400-1717804799@sms.pendleton.k12.or.us
SUMMARY:Staff In-Service
DESCRIPTION:
URL:https://sms.pendleton.k12.or.us/event/staff-in-service-7/
CATEGORIES:District Wide
END:VEVENT
BEGIN:VEVENT
DTSTART;VALUE=DATE:20240606
DTEND;VALUE=DATE:20240607
DTSTAMP:20260421T030841
CREATED:20230609T162245Z
LAST-MODIFIED:20240606T155126Z
UID:10000759-1717632000-1717718399@sms.pendleton.k12.or.us
SUMMARY:Last Day of School
DESCRIPTION:2 hour early release
URL:https://sms.pendleton.k12.or.us/event/last-day-of-school-4/
CATEGORIES:District Wide
END:VEVENT
BEGIN:VEVENT
DTSTART;VALUE=DATE:20240606
DTEND;VALUE=DATE:20240607
DTSTAMP:20260421T030841
CREATED:20230609T162245Z
LAST-MODIFIED:20240606T155126Z
UID:10000762-1717632000-1717718399@sms.pendleton.k12.or.us
SUMMARY:End of 2nd Semester
DESCRIPTION:
URL:https://sms.pendleton.k12.or.us/event/end-of-2nd-semester-2/
CATEGORIES:District Wide
END:VEVENT
BEGIN:VEVENT
DTSTART;TZID=America/Los_Angeles:20240604T080000
DTEND;TZID=America/Los_Angeles:20240604T090000
DTSTAMP:20260421T030841
CREATED:20230725T193721Z
LAST-MODIFIED:20240604T155044Z
UID:10000810-1717488000-1717491600@sms.pendleton.k12.or.us
SUMMARY:Board Work Session
DESCRIPTION:Held in the District Office Boardroom.\n8:00-9:00 am
URL:https://sms.pendleton.k12.or.us/event/board-work-session-22/
CATEGORIES:District Wide
END:VEVENT
BEGIN:VEVENT
DTSTART;VALUE=DATE:20240603
DTEND;VALUE=DATE:20240604
DTSTAMP:20260421T030841
CREATED:20230609T162245Z
LAST-MODIFIED:20240603T155051Z
UID:10000760-1717372800-1717459199@sms.pendleton.k12.or.us
SUMMARY:Late Start
DESCRIPTION:
URL:https://sms.pendleton.k12.or.us/event/late-start-61/
CATEGORIES:District Wide
END:VEVENT
BEGIN:VEVENT
DTSTART;TZID=America/Los_Angeles:20240601T100000
DTEND;TZID=America/Los_Angeles:20240601T113000
DTSTAMP:20260421T030841
CREATED:20230609T162245Z
LAST-MODIFIED:20240601T153548Z
UID:10000761-1717236000-1717241400@sms.pendleton.k12.or.us
SUMMARY:PHS Graduation
DESCRIPTION:Pendleton High School graduation in Round-Up Stadium at 10:00 am.  Congratulations\, Class of 2024!
URL:https://sms.pendleton.k12.or.us/event/phs-graduation-4/
CATEGORIES:District Wide
END:VEVENT
BEGIN:VEVENT
DTSTART;VALUE=DATE:20240527
DTEND;VALUE=DATE:20240528
DTSTAMP:20260421T030841
CREATED:20230609T162245Z
LAST-MODIFIED:20240527T152349Z
UID:10000757-1716768000-1716854399@sms.pendleton.k12.or.us
SUMMARY:No School – Memorial Day
DESCRIPTION:
URL:https://sms.pendleton.k12.or.us/event/no-school-memorial-day/
CATEGORIES:District Wide
END:VEVENT
BEGIN:VEVENT
DTSTART;VALUE=DATE:20240520
DTEND;VALUE=DATE:20240521
DTSTAMP:20260421T030841
CREATED:20230609T162245Z
LAST-MODIFIED:20240520T152044Z
UID:10000756-1716163200-1716249599@sms.pendleton.k12.or.us
SUMMARY:Late Start
DESCRIPTION:
URL:https://sms.pendleton.k12.or.us/event/late-start-60/
CATEGORIES:District Wide
END:VEVENT
BEGIN:VEVENT
DTSTART;TZID=America/Los_Angeles:20240516T180000
DTEND;TZID=America/Los_Angeles:20240516T193000
DTSTAMP:20260421T030841
CREATED:20240110T083602Z
LAST-MODIFIED:20240516T150715Z
UID:10000845-1715882400-1715887800@sms.pendleton.k12.or.us
SUMMARY:Budget Committee Meeting
DESCRIPTION:The Budget Committee will meet at the District Office at 6:00 pm.
URL:https://sms.pendleton.k12.or.us/event/budget-committee-meeting-2/
CATEGORIES:District Wide
END:VEVENT
BEGIN:VEVENT
DTSTART;TZID=America/Los_Angeles:20240513T180000
DTEND;TZID=America/Los_Angeles:20240513T190000
DTSTAMP:20260421T030841
CREATED:20230725T193721Z
LAST-MODIFIED:20240513T143724Z
UID:10000809-1715623200-1715626800@sms.pendleton.k12.or.us
SUMMARY:Board Meeting
DESCRIPTION:Held in the District Office Boardroom.\n6:00-7:00 pm
URL:https://sms.pendleton.k12.or.us/event/board-meeting-34/
CATEGORIES:District Wide
END:VEVENT
BEGIN:VEVENT
DTSTART;VALUE=DATE:20240513
DTEND;VALUE=DATE:20240514
DTSTAMP:20260421T030841
CREATED:20230609T162245Z
LAST-MODIFIED:20240513T143724Z
UID:10000755-1715558400-1715644799@sms.pendleton.k12.or.us
SUMMARY:Late Start
DESCRIPTION:
URL:https://sms.pendleton.k12.or.us/event/late-start-59/
CATEGORIES:District Wide
END:VEVENT
BEGIN:VEVENT
DTSTART;VALUE=DATE:20240510
DTEND;VALUE=DATE:20240511
DTSTAMP:20260421T030841
CREATED:20230609T162245Z
LAST-MODIFIED:20240510T142048Z
UID:10000754-1715299200-1715385599@sms.pendleton.k12.or.us
SUMMARY:No School (Possible Snow Make-up Day)
DESCRIPTION:
URL:https://sms.pendleton.k12.or.us/event/no-school-possible-snow-make-up-day-5/
CATEGORIES:District Wide
END:VEVENT
BEGIN:VEVENT
DTSTART;TZID=America/Los_Angeles:20240507T080000
DTEND;TZID=America/Los_Angeles:20240507T090000
DTSTAMP:20260421T030841
CREATED:20230725T193721Z
LAST-MODIFIED:20240507T140719Z
UID:10000808-1715068800-1715072400@sms.pendleton.k12.or.us
SUMMARY:Board Work Session
DESCRIPTION:Held in the District Office Boardroom.\n8:00-9:00 am
URL:https://sms.pendleton.k12.or.us/event/board-work-session-21/
CATEGORIES:District Wide
END:VEVENT
BEGIN:VEVENT
DTSTART;VALUE=DATE:20240506
DTEND;VALUE=DATE:20240507
DTSTAMP:20260421T030841
CREATED:20230609T162245Z
LAST-MODIFIED:20240506T140611Z
UID:10000753-1714953600-1715039999@sms.pendleton.k12.or.us
SUMMARY:Late Start
DESCRIPTION:
URL:https://sms.pendleton.k12.or.us/event/late-start-58/
CATEGORIES:District Wide
END:VEVENT
BEGIN:VEVENT
DTSTART;VALUE=DATE:20240429
DTEND;VALUE=DATE:20240430
DTSTAMP:20260421T030841
CREATED:20230609T162245Z
LAST-MODIFIED:20240429T135046Z
UID:10000752-1714348800-1714435199@sms.pendleton.k12.or.us
SUMMARY:Late Start
DESCRIPTION:
URL:https://sms.pendleton.k12.or.us/event/late-start-57/
CATEGORIES:District Wide
END:VEVENT
BEGIN:VEVENT
DTSTART;VALUE=DATE:20240422
DTEND;VALUE=DATE:20240423
DTSTAMP:20260421T030841
CREATED:20230609T162245Z
LAST-MODIFIED:20240422T135041Z
UID:10000747-1713744000-1713830399@sms.pendleton.k12.or.us
SUMMARY:Late Start
DESCRIPTION:
URL:https://sms.pendleton.k12.or.us/event/late-start-56/
CATEGORIES:District Wide
END:VEVENT
BEGIN:VEVENT
DTSTART;VALUE=DATE:20240419
DTEND;VALUE=DATE:20240420
DTSTAMP:20260421T030841
CREATED:20230609T162245Z
LAST-MODIFIED:20240419T133550Z
UID:10000746-1713484800-1713571199@sms.pendleton.k12.or.us
SUMMARY:No School (Possible Snow Make-up Day)
DESCRIPTION:
URL:https://sms.pendleton.k12.or.us/event/no-school-possible-snow-make-up-day-4/
CATEGORIES:District Wide
END:VEVENT
BEGIN:VEVENT
DTSTART;VALUE=DATE:20240415
DTEND;VALUE=DATE:20240416
DTSTAMP:20260421T030841
CREATED:20230609T162245Z
LAST-MODIFIED:20240415T132328Z
UID:10000748-1713139200-1713225599@sms.pendleton.k12.or.us
SUMMARY:Late Start
DESCRIPTION:
URL:https://sms.pendleton.k12.or.us/event/late-start-55/
CATEGORIES:District Wide
END:VEVENT
BEGIN:VEVENT
DTSTART;TZID=America/Los_Angeles:20240408T180000
DTEND;TZID=America/Los_Angeles:20240408T190000
DTSTAMP:20260421T030841
CREATED:20230725T193721Z
LAST-MODIFIED:20240408T125302Z
UID:10000807-1712599200-1712602800@sms.pendleton.k12.or.us
SUMMARY:Board Meeting
DESCRIPTION:Held in the District Office Boardroom.\n6:00-7:00 pm
URL:https://sms.pendleton.k12.or.us/event/board-meeting-33/
CATEGORIES:District Wide
END:VEVENT
BEGIN:VEVENT
DTSTART;VALUE=DATE:20240408
DTEND;VALUE=DATE:20240411
DTSTAMP:20260421T030841
CREATED:20230613T165137Z
LAST-MODIFIED:20240408T125302Z
UID:10000767-1712534400-1712793599@sms.pendleton.k12.or.us
SUMMARY:Art Show
DESCRIPTION:District-wide art show at the Pendleton Convention Center – April 8-10.\nOpening night is Monday\, 4/8\, from 5:30-7:30.  April 9 is 8-7:30.  April 10 is 8-3:30.  Free Admittance.
URL:https://sms.pendleton.k12.or.us/event/art-show/
CATEGORIES:District Wide
END:VEVENT
BEGIN:VEVENT
DTSTART;VALUE=DATE:20240408
DTEND;VALUE=DATE:20240409
DTSTAMP:20260421T030841
CREATED:20230609T162245Z
LAST-MODIFIED:20240408T125302Z
UID:10000749-1712534400-1712620799@sms.pendleton.k12.or.us
SUMMARY:Late Start
DESCRIPTION:
URL:https://sms.pendleton.k12.or.us/event/late-start-54/
CATEGORIES:District Wide
END:VEVENT
BEGIN:VEVENT
DTSTART;TZID=America/Los_Angeles:20240402T080000
DTEND;TZID=America/Los_Angeles:20240402T113000
DTSTAMP:20260421T030841
CREATED:20230725T193721Z
LAST-MODIFIED:20240402T125049Z
UID:10000806-1712044800-1712057400@sms.pendleton.k12.or.us
SUMMARY:Board Work Session
DESCRIPTION:Held in the District Office Boardroom.\n8:00-11:30 am
URL:https://sms.pendleton.k12.or.us/event/board-work-session-20/
CATEGORIES:District Wide
END:VEVENT
BEGIN:VEVENT
DTSTART;VALUE=DATE:20240401
DTEND;VALUE=DATE:20240402
DTSTAMP:20260421T030841
CREATED:20230609T162244Z
LAST-MODIFIED:20240401T125100Z
UID:10000750-1711929600-1712015999@sms.pendleton.k12.or.us
SUMMARY:Late Start
DESCRIPTION:
URL:https://sms.pendleton.k12.or.us/event/late-start-53/
CATEGORIES:District Wide
END:VEVENT
BEGIN:VEVENT
DTSTART;VALUE=DATE:20240325
DTEND;VALUE=DATE:20240330
DTSTAMP:20260421T030841
CREATED:20230609T162244Z
LAST-MODIFIED:20240325T122411Z
UID:10000751-1711324800-1711756799@sms.pendleton.k12.or.us
SUMMARY:No School – Spring Break
DESCRIPTION:
URL:https://sms.pendleton.k12.or.us/event/no-school-spring-break/
CATEGORIES:District Wide
END:VEVENT
BEGIN:VEVENT
DTSTART;VALUE=DATE:20240318
DTEND;VALUE=DATE:20240319
DTSTAMP:20260421T030841
CREATED:20230609T162244Z
LAST-MODIFIED:20240318T115047Z
UID:10000738-1710720000-1710806399@sms.pendleton.k12.or.us
SUMMARY:Late Start
DESCRIPTION:
URL:https://sms.pendleton.k12.or.us/event/late-start-52/
CATEGORIES:District Wide
END:VEVENT
BEGIN:VEVENT
DTSTART;TZID=America/Los_Angeles:20240311T180000
DTEND;TZID=America/Los_Angeles:20240311T190000
DTSTAMP:20260421T030841
CREATED:20230725T193720Z
LAST-MODIFIED:20240311T113631Z
UID:10000805-1710180000-1710183600@sms.pendleton.k12.or.us
SUMMARY:Board Meeting
DESCRIPTION:Held in the District Office Boardroom.\n6:00-7:00 pm
URL:https://sms.pendleton.k12.or.us/event/board-meeting-32/
CATEGORIES:District Wide
END:VEVENT
BEGIN:VEVENT
DTSTART;VALUE=DATE:20240311
DTEND;VALUE=DATE:20240312
DTSTAMP:20260421T030841
CREATED:20230609T162244Z
LAST-MODIFIED:20240311T113631Z
UID:10000740-1710115200-1710201599@sms.pendleton.k12.or.us
SUMMARY:Late Start
DESCRIPTION:
URL:https://sms.pendleton.k12.or.us/event/late-start-51/
CATEGORIES:District Wide
END:VEVENT
BEGIN:VEVENT
DTSTART;VALUE=DATE:20240308
DTEND;VALUE=DATE:20240309
DTSTAMP:20260421T030841
CREATED:20230609T162244Z
LAST-MODIFIED:20240308T113552Z
UID:10000741-1709856000-1709942399@sms.pendleton.k12.or.us
SUMMARY:No School – Regional In-Service
DESCRIPTION:
URL:https://sms.pendleton.k12.or.us/event/no-school-regional-in-service/
CATEGORIES:District Wide
END:VEVENT
END:VCALENDAR