BEGIN:VCALENDAR
VERSION:2.0
PRODID:-//Sunridge Middle School - ECPv6.13.0//NONSGML v1.0//EN
CALSCALE:GREGORIAN
METHOD:PUBLISH
X-ORIGINAL-URL:https://sms.pendleton.k12.or.us
X-WR-CALDESC:Events for Sunridge Middle School
REFRESH-INTERVAL;VALUE=DURATION:PT1H
X-Robots-Tag:noindex
X-PUBLISHED-TTL:PT1H
BEGIN:VTIMEZONE
TZID:America/Los_Angeles
BEGIN:DAYLIGHT
TZOFFSETFROM:-0800
TZOFFSETTO:-0700
TZNAME:PDT
DTSTART:20230312T100000
END:DAYLIGHT
BEGIN:STANDARD
TZOFFSETFROM:-0700
TZOFFSETTO:-0800
TZNAME:PST
DTSTART:20231105T090000
END:STANDARD
BEGIN:DAYLIGHT
TZOFFSETFROM:-0800
TZOFFSETTO:-0700
TZNAME:PDT
DTSTART:20240310T100000
END:DAYLIGHT
BEGIN:STANDARD
TZOFFSETFROM:-0700
TZOFFSETTO:-0800
TZNAME:PST
DTSTART:20241103T090000
END:STANDARD
END:VTIMEZONE
BEGIN:VEVENT
DTSTART;TZID=America/Los_Angeles:20240212T180000
DTEND;TZID=America/Los_Angeles:20240212T190000
DTSTAMP:20260421T074108
CREATED:20230725T193720Z
LAST-MODIFIED:20240212T105300Z
UID:10000803-1707760800-1707764400@sms.pendleton.k12.or.us
SUMMARY:Board Meeting
DESCRIPTION:Held in the District Office Boardroom.\n6:00-7:00 pm
URL:https://sms.pendleton.k12.or.us/event/board-meeting-31/
CATEGORIES:District Wide
END:VEVENT
BEGIN:VEVENT
DTSTART;VALUE=DATE:20240212
DTEND;VALUE=DATE:20240213
DTSTAMP:20260421T074108
CREATED:20230609T162244Z
LAST-MODIFIED:20240212T105300Z
UID:10000735-1707696000-1707782399@sms.pendleton.k12.or.us
SUMMARY:Late Start
DESCRIPTION:
URL:https://sms.pendleton.k12.or.us/event/late-start-48/
CATEGORIES:District Wide
END:VEVENT
BEGIN:VEVENT
DTSTART;TZID=America/Los_Angeles:20240206T080000
DTEND;TZID=America/Los_Angeles:20240206T090000
DTSTAMP:20260421T074108
CREATED:20230725T193720Z
LAST-MODIFIED:20240206T103611Z
UID:10000802-1707206400-1707210000@sms.pendleton.k12.or.us
SUMMARY:Board Work Session
DESCRIPTION:Held in the District Office Boardroom.\n8:00-9:00 am
URL:https://sms.pendleton.k12.or.us/event/board-work-session-18/
CATEGORIES:District Wide
END:VEVENT
BEGIN:VEVENT
DTSTART;VALUE=DATE:20240205
DTEND;VALUE=DATE:20240206
DTSTAMP:20260421T074108
CREATED:20230609T162244Z
LAST-MODIFIED:20240205T102222Z
UID:10000737-1707091200-1707177599@sms.pendleton.k12.or.us
SUMMARY:Late Start
DESCRIPTION:
URL:https://sms.pendleton.k12.or.us/event/late-start-47/
CATEGORIES:District Wide
END:VEVENT
BEGIN:VEVENT
DTSTART;VALUE=DATE:20240129
DTEND;VALUE=DATE:20240130
DTSTAMP:20260421T074108
CREATED:20230609T162244Z
LAST-MODIFIED:20240125T092113Z
UID:10000610-1706486400-1706572799@sms.pendleton.k12.or.us
SUMMARY:No School – Staff In-Service
DESCRIPTION:
URL:https://sms.pendleton.k12.or.us/event/no-school-staff-in-service/
CATEGORIES:District Wide
END:VEVENT
BEGIN:VEVENT
DTSTART;VALUE=DATE:20240126
DTEND;VALUE=DATE:20240127
DTSTAMP:20260421T074108
CREATED:20230609T162243Z
LAST-MODIFIED:20240125T092113Z
UID:10000608-1706227200-1706313599@sms.pendleton.k12.or.us
SUMMARY:End of 1st Semester
DESCRIPTION:
URL:https://sms.pendleton.k12.or.us/event/end-of-1st-semester-2/
CATEGORIES:District Wide
END:VEVENT
BEGIN:VEVENT
DTSTART;TZID=America/Los_Angeles:20240122T073000
DTEND;TZID=America/Los_Angeles:20240122T160000
DTSTAMP:20260421T074108
CREATED:20231021T060644Z
LAST-MODIFIED:20240122T090601Z
UID:10000837-1705908600-1705939200@sms.pendleton.k12.or.us
SUMMARY:SBHC @ the PELC
DESCRIPTION:The Pendleton School Based Health Clinic is offering an Immunization Clinic and Well Child Checks that are available to all students in the Pendleton School District at no cost to families! \nOctober 23 @ the PELC 7:30-4:00\nDecember 3 @ the PELC 7:30-4:00\nJanuary 22 @ the PELC 7:30-4:00 \nPlease call ahead to make an appointment.\n541-966-6857 or 541-966-3432 \nServices offered:\nWell child exams\nVision screenings\nImmunizations
URL:https://sms.pendleton.k12.or.us/event/sbhc-the-pelc-3/
CATEGORIES:District Wide
END:VEVENT
BEGIN:VEVENT
DTSTART;VALUE=DATE:20240122
DTEND;VALUE=DATE:20240123
DTSTAMP:20260421T074108
CREATED:20230609T162243Z
LAST-MODIFIED:20240122T090601Z
UID:10000606-1705881600-1705967999@sms.pendleton.k12.or.us
SUMMARY:Late Start
DESCRIPTION:
URL:https://sms.pendleton.k12.or.us/event/late-start-46/
CATEGORIES:District Wide
END:VEVENT
BEGIN:VEVENT
DTSTART;VALUE=DATE:20240115
DTEND;VALUE=DATE:20240116
DTSTAMP:20260421T074108
CREATED:20230609T162243Z
LAST-MODIFIED:20240115T083550Z
UID:10000603-1705276800-1705363199@sms.pendleton.k12.or.us
SUMMARY:No School – Martin Luther King Jr. Day
DESCRIPTION:
URL:https://sms.pendleton.k12.or.us/event/no-school-martin-luther-king-jr-day/
CATEGORIES:District Wide
END:VEVENT
BEGIN:VEVENT
DTSTART;TZID=America/Los_Angeles:20240108T180000
DTEND;TZID=America/Los_Angeles:20240108T190000
DTSTAMP:20260421T074108
CREATED:20230725T193719Z
LAST-MODIFIED:20240108T083648Z
UID:10000801-1704736800-1704740400@sms.pendleton.k12.or.us
SUMMARY:Board Meeting
DESCRIPTION:Held in the District Office Boardroom.\n6:00-7:00 pm
URL:https://sms.pendleton.k12.or.us/event/board-meeting-30/
CATEGORIES:District Wide
END:VEVENT
BEGIN:VEVENT
DTSTART;VALUE=DATE:20240108
DTEND;VALUE=DATE:20240109
DTSTAMP:20260421T074108
CREATED:20230609T162243Z
LAST-MODIFIED:20240108T083648Z
UID:10000600-1704672000-1704758399@sms.pendleton.k12.or.us
SUMMARY:Late Start
DESCRIPTION:
URL:https://sms.pendleton.k12.or.us/event/late-start-45/
CATEGORIES:District Wide
END:VEVENT
BEGIN:VEVENT
DTSTART;TZID=America/Los_Angeles:20240102T080000
DTEND;TZID=America/Los_Angeles:20240102T090000
DTSTAMP:20260421T074108
CREATED:20230725T193719Z
LAST-MODIFIED:20240102T083600Z
UID:10000800-1704182400-1704186000@sms.pendleton.k12.or.us
SUMMARY:Board Work Session
DESCRIPTION:Held in the District Office Boardroom.\n8:00-9:00 am
URL:https://sms.pendleton.k12.or.us/event/board-work-session-17/
CATEGORIES:District Wide
END:VEVENT
BEGIN:VEVENT
DTSTART;VALUE=DATE:20231221
DTEND;VALUE=DATE:20240102
DTSTAMP:20260421T074108
CREATED:20230609T162243Z
LAST-MODIFIED:20231221T075111Z
UID:10000599-1703116800-1704153599@sms.pendleton.k12.or.us
SUMMARY:No School – Winter Break
DESCRIPTION:
URL:https://sms.pendleton.k12.or.us/event/no-school-winter-break/
CATEGORIES:District Wide
END:VEVENT
BEGIN:VEVENT
DTSTART;VALUE=DATE:20231218
DTEND;VALUE=DATE:20231219
DTSTAMP:20260421T074108
CREATED:20230609T162243Z
LAST-MODIFIED:20231218T075232Z
UID:10000597-1702857600-1702943999@sms.pendleton.k12.or.us
SUMMARY:Late Start
DESCRIPTION:
URL:https://sms.pendleton.k12.or.us/event/late-start-44/
CATEGORIES:District Wide
END:VEVENT
BEGIN:VEVENT
DTSTART;TZID=America/Los_Angeles:20231211T180000
DTEND;TZID=America/Los_Angeles:20231211T190000
DTSTAMP:20260421T074108
CREATED:20230725T193719Z
LAST-MODIFIED:20231211T075100Z
UID:10000799-1702317600-1702321200@sms.pendleton.k12.or.us
SUMMARY:Board Meeting
DESCRIPTION:Held in the District Office Boardroom.\n6:00-7:00 pm
URL:https://sms.pendleton.k12.or.us/event/board-meeting-29/
CATEGORIES:District Wide
END:VEVENT
BEGIN:VEVENT
DTSTART;VALUE=DATE:20231211
DTEND;VALUE=DATE:20231212
DTSTAMP:20260421T074108
CREATED:20230609T162243Z
LAST-MODIFIED:20231211T075100Z
UID:10000595-1702252800-1702339199@sms.pendleton.k12.or.us
SUMMARY:Late Start
DESCRIPTION:
URL:https://sms.pendleton.k12.or.us/event/late-start-43/
CATEGORIES:District Wide
END:VEVENT
BEGIN:VEVENT
DTSTART;TZID=America/Los_Angeles:20231205T080000
DTEND;TZID=America/Los_Angeles:20231205T090000
DTSTAMP:20260421T074108
CREATED:20230725T193719Z
LAST-MODIFIED:20231205T075112Z
UID:10000798-1701763200-1701766800@sms.pendleton.k12.or.us
SUMMARY:Board Work Session
DESCRIPTION:Held in the District Office Boardroom.\n8:00-9:00 am
URL:https://sms.pendleton.k12.or.us/event/board-work-session-16/
CATEGORIES:District Wide
END:VEVENT
BEGIN:VEVENT
DTSTART;TZID=America/Los_Angeles:20231204T073000
DTEND;TZID=America/Los_Angeles:20231204T160000
DTSTAMP:20260421T074108
CREATED:20231021T060643Z
LAST-MODIFIED:20231204T075111Z
UID:10000836-1701675000-1701705600@sms.pendleton.k12.or.us
SUMMARY:SBHC @ the PELC
DESCRIPTION:The Pendleton School Based Health Clinic is offering an Immunization Clinic and Well Child Checks that are available to all students in the Pendleton School District at no cost to families! \nOctober 23 @ the PELC 7:30-4:00\nDecember 3 @ the PELC 7:30-4:00\nJanuary 22 @ the PELC 7:30-4:00 \nPlease call ahead to make an appointment.\n541-966-6857 or 541-966-3432 \nServices offered:\nWell child exams\nVision screenings\nImmunizations
URL:https://sms.pendleton.k12.or.us/event/sbhc-the-pelc-2/
CATEGORIES:District Wide
END:VEVENT
BEGIN:VEVENT
DTSTART;VALUE=DATE:20231204
DTEND;VALUE=DATE:20231205
DTSTAMP:20260421T074108
CREATED:20230609T162243Z
LAST-MODIFIED:20231204T075111Z
UID:10000732-1701648000-1701734399@sms.pendleton.k12.or.us
SUMMARY:Late Start
DESCRIPTION:
URL:https://sms.pendleton.k12.or.us/event/late-start-42/
CATEGORIES:District Wide
END:VEVENT
BEGIN:VEVENT
DTSTART;VALUE=DATE:20231127
DTEND;VALUE=DATE:20231128
DTSTAMP:20260421T074108
CREATED:20230609T162243Z
LAST-MODIFIED:20231127T073635Z
UID:10000731-1701043200-1701129599@sms.pendleton.k12.or.us
SUMMARY:Late Start
DESCRIPTION:
URL:https://sms.pendleton.k12.or.us/event/late-start-41/
CATEGORIES:District Wide
END:VEVENT
BEGIN:VEVENT
DTSTART;VALUE=DATE:20231122
DTEND;VALUE=DATE:20231125
DTSTAMP:20260421T074108
CREATED:20230609T162243Z
LAST-MODIFIED:20231122T073619Z
UID:10000730-1700611200-1700870399@sms.pendleton.k12.or.us
SUMMARY:No School – Thanksgiving Break
DESCRIPTION:
URL:https://sms.pendleton.k12.or.us/event/no-school-thanksgiving-break/
CATEGORIES:District Wide
END:VEVENT
BEGIN:VEVENT
DTSTART;TZID=America/Los_Angeles:20231121T073000
DTEND;TZID=America/Los_Angeles:20231121T190000
DTSTAMP:20260421T074108
CREATED:20230609T162243Z
LAST-MODIFIED:20231121T073609Z
UID:10000729-1700551800-1700593200@sms.pendleton.k12.or.us
SUMMARY:No School – Parent/Teacher Conferences
DESCRIPTION:Parent Teacher Conferences November 20 & 21\, 2023 \nK-5\nMonday\, Nov 20:  4 – 8 pm\nTuesday\, Nov 21: 7:30 am – 7:00 pm \nSMS\nMonday\, Nov 20:  4 – 8 pm\nTuesday\, Nov 21: 7:30 am – 1 pm\,  2 – 7 pm\n \nPHS\nMonday\, Nov 20:  4 – 8 pm (commons)\nTuesday\, Nov 21: 7:30 am – 1 pm (virtual)\, 2 – 4 pm (virtual)\, 4 – 7 pm (commons)
URL:https://sms.pendleton.k12.or.us/event/no-school-parent-teacher-conferences/
CATEGORIES:District Wide
END:VEVENT
BEGIN:VEVENT
DTSTART;TZID=America/Los_Angeles:20231120T160000
DTEND;TZID=America/Los_Angeles:20231120T200000
DTSTAMP:20260421T074108
CREATED:20230609T162243Z
LAST-MODIFIED:20231120T073550Z
UID:10000728-1700496000-1700510400@sms.pendleton.k12.or.us
SUMMARY:Evening Parent/Teacher Conferences
DESCRIPTION:Parent Teacher Conferences November 20 & 21\, 2023 \nK-5\nMonday\, Nov 20:  4 – 8 pm\nTuesday\, Nov 21: 7:30 am – 7:00 pm \nSMS\nMonday\, Nov 20:  4 – 8 pm\nTuesday\, Nov 21: 7:30 am – 1 pm\,  2 – 7 pm\n \nPHS\nMonday\, Nov 20:  4 – 8 pm (commons)\nTuesday\, Nov 21: 7:30 am – 1 pm (virtual)\, 2 – 4 pm (virtual)\, 4 – 7 pm (commons)
URL:https://sms.pendleton.k12.or.us/event/evening-parent-teacher-conferences-6/
CATEGORIES:District Wide
END:VEVENT
BEGIN:VEVENT
DTSTART;TZID=America/Los_Angeles:20231113T180000
DTEND;TZID=America/Los_Angeles:20231113T200000
DTSTAMP:20260421T074108
CREATED:20230725T193719Z
LAST-MODIFIED:20231113T072058Z
UID:10000797-1699898400-1699905600@sms.pendleton.k12.or.us
SUMMARY:Board Meeting
DESCRIPTION:Held at CTUIR.  Begins at 6:00 pm.
URL:https://sms.pendleton.k12.or.us/event/board-meeting-28/
CATEGORIES:District Wide
END:VEVENT
BEGIN:VEVENT
DTSTART;VALUE=DATE:20231113
DTEND;VALUE=DATE:20231114
DTSTAMP:20260421T074108
CREATED:20230609T162243Z
LAST-MODIFIED:20231113T072058Z
UID:10000726-1699833600-1699919999@sms.pendleton.k12.or.us
SUMMARY:Late Start
DESCRIPTION:
URL:https://sms.pendleton.k12.or.us/event/late-start-40/
CATEGORIES:District Wide
END:VEVENT
BEGIN:VEVENT
DTSTART;VALUE=DATE:20231110
DTEND;VALUE=DATE:20231111
DTSTAMP:20260421T074108
CREATED:20230609T162243Z
LAST-MODIFIED:20231110T070550Z
UID:10000725-1699574400-1699660799@sms.pendleton.k12.or.us
SUMMARY:No School – Veterans Day Observed
DESCRIPTION:
URL:https://sms.pendleton.k12.or.us/event/no-school-veterans-day-observed/
CATEGORIES:District Wide
END:VEVENT
BEGIN:VEVENT
DTSTART;TZID=America/Los_Angeles:20231107T080000
DTEND;TZID=America/Los_Angeles:20231107T090000
DTSTAMP:20260421T074108
CREATED:20230725T193719Z
LAST-MODIFIED:20231107T070642Z
UID:10000796-1699344000-1699347600@sms.pendleton.k12.or.us
SUMMARY:Board Work Session
DESCRIPTION:Held in the District Office Boardroom.\n8:00-9:00 am
URL:https://sms.pendleton.k12.or.us/event/board-work-session-15/
CATEGORIES:District Wide
END:VEVENT
BEGIN:VEVENT
DTSTART;VALUE=DATE:20231106
DTEND;VALUE=DATE:20231107
DTSTAMP:20260421T074108
CREATED:20230609T162242Z
LAST-MODIFIED:20231106T070546Z
UID:10000724-1699228800-1699315199@sms.pendleton.k12.or.us
SUMMARY:Late Start
DESCRIPTION:
URL:https://sms.pendleton.k12.or.us/event/late-start-39/
CATEGORIES:District Wide
END:VEVENT
BEGIN:VEVENT
DTSTART;VALUE=DATE:20231030
DTEND;VALUE=DATE:20231031
DTSTAMP:20260421T074108
CREATED:20230609T162242Z
LAST-MODIFIED:20231030T065129Z
UID:10000593-1698624000-1698710399@sms.pendleton.k12.or.us
SUMMARY:Late Start
DESCRIPTION:
URL:https://sms.pendleton.k12.or.us/event/late-start-38/
CATEGORIES:District Wide
END:VEVENT
BEGIN:VEVENT
DTSTART;TZID=America/Los_Angeles:20231023T073000
DTEND;TZID=America/Los_Angeles:20231023T160000
DTSTAMP:20260421T074108
CREATED:20231021T060642Z
LAST-MODIFIED:20231023T060624Z
UID:10000835-1698046200-1698076800@sms.pendleton.k12.or.us
SUMMARY:SBHC @ the PELC
DESCRIPTION:The Pendleton School Based Health Clinic is offering an Immunization Clinic and Well Child Checks that are available to all students in the Pendleton School District at no cost to families! \nOctober 23 @ the PELC 7:30-4:00\nDecember 3 @ the PELC 7:30-4:00\nJanuary 22 @ the PELC 7:30-4:00 \nPlease call ahead to make an appointment.\n541-966-6857 or 541-966-3432 \nServices offered:\nWell child exams\nVision screenings\nImmunizations
URL:https://sms.pendleton.k12.or.us/event/sbhc-the-pelc/
CATEGORIES:District Wide
END:VEVENT
END:VCALENDAR