BEGIN:VCALENDAR
VERSION:2.0
PRODID:-//Sunridge Middle School - ECPv6.13.0//NONSGML v1.0//EN
CALSCALE:GREGORIAN
METHOD:PUBLISH
X-ORIGINAL-URL:https://sms.pendleton.k12.or.us
X-WR-CALDESC:Events for Sunridge Middle School
REFRESH-INTERVAL;VALUE=DURATION:PT1H
X-Robots-Tag:noindex
X-PUBLISHED-TTL:PT1H
BEGIN:VTIMEZONE
TZID:America/Los_Angeles
BEGIN:DAYLIGHT
TZOFFSETFROM:-0800
TZOFFSETTO:-0700
TZNAME:PDT
DTSTART:20230312T100000
END:DAYLIGHT
BEGIN:STANDARD
TZOFFSETFROM:-0700
TZOFFSETTO:-0800
TZNAME:PST
DTSTART:20231105T090000
END:STANDARD
END:VTIMEZONE
BEGIN:VEVENT
DTSTART;VALUE=DATE:20231113
DTEND;VALUE=DATE:20231114
DTSTAMP:20260421T102334
CREATED:20230609T162243Z
LAST-MODIFIED:20231113T072058Z
UID:10000726-1699833600-1699919999@sms.pendleton.k12.or.us
SUMMARY:Late Start
DESCRIPTION:
URL:https://sms.pendleton.k12.or.us/event/late-start-40/
CATEGORIES:District Wide
END:VEVENT
BEGIN:VEVENT
DTSTART;VALUE=DATE:20231110
DTEND;VALUE=DATE:20231111
DTSTAMP:20260421T102334
CREATED:20230609T162243Z
LAST-MODIFIED:20231110T070550Z
UID:10000725-1699574400-1699660799@sms.pendleton.k12.or.us
SUMMARY:No School – Veterans Day Observed
DESCRIPTION:
URL:https://sms.pendleton.k12.or.us/event/no-school-veterans-day-observed/
CATEGORIES:District Wide
END:VEVENT
BEGIN:VEVENT
DTSTART;TZID=America/Los_Angeles:20231107T080000
DTEND;TZID=America/Los_Angeles:20231107T090000
DTSTAMP:20260421T102334
CREATED:20230725T193719Z
LAST-MODIFIED:20231107T070642Z
UID:10000796-1699344000-1699347600@sms.pendleton.k12.or.us
SUMMARY:Board Work Session
DESCRIPTION:Held in the District Office Boardroom.\n8:00-9:00 am
URL:https://sms.pendleton.k12.or.us/event/board-work-session-15/
CATEGORIES:District Wide
END:VEVENT
BEGIN:VEVENT
DTSTART;VALUE=DATE:20231106
DTEND;VALUE=DATE:20231107
DTSTAMP:20260421T102334
CREATED:20230609T162242Z
LAST-MODIFIED:20231106T070546Z
UID:10000724-1699228800-1699315199@sms.pendleton.k12.or.us
SUMMARY:Late Start
DESCRIPTION:
URL:https://sms.pendleton.k12.or.us/event/late-start-39/
CATEGORIES:District Wide
END:VEVENT
BEGIN:VEVENT
DTSTART;VALUE=DATE:20231030
DTEND;VALUE=DATE:20231031
DTSTAMP:20260421T102334
CREATED:20230609T162242Z
LAST-MODIFIED:20231030T065129Z
UID:10000593-1698624000-1698710399@sms.pendleton.k12.or.us
SUMMARY:Late Start
DESCRIPTION:
URL:https://sms.pendleton.k12.or.us/event/late-start-38/
CATEGORIES:District Wide
END:VEVENT
BEGIN:VEVENT
DTSTART;TZID=America/Los_Angeles:20231023T073000
DTEND;TZID=America/Los_Angeles:20231023T160000
DTSTAMP:20260421T102334
CREATED:20231021T060642Z
LAST-MODIFIED:20231023T060624Z
UID:10000835-1698046200-1698076800@sms.pendleton.k12.or.us
SUMMARY:SBHC @ the PELC
DESCRIPTION:The Pendleton School Based Health Clinic is offering an Immunization Clinic and Well Child Checks that are available to all students in the Pendleton School District at no cost to families! \nOctober 23 @ the PELC 7:30-4:00\nDecember 3 @ the PELC 7:30-4:00\nJanuary 22 @ the PELC 7:30-4:00 \nPlease call ahead to make an appointment.\n541-966-6857 or 541-966-3432 \nServices offered:\nWell child exams\nVision screenings\nImmunizations
URL:https://sms.pendleton.k12.or.us/event/sbhc-the-pelc/
CATEGORIES:District Wide
END:VEVENT
BEGIN:VEVENT
DTSTART;VALUE=DATE:20231023
DTEND;VALUE=DATE:20231024
DTSTAMP:20260421T102334
CREATED:20230609T162242Z
LAST-MODIFIED:20231023T060624Z
UID:10000592-1698019200-1698105599@sms.pendleton.k12.or.us
SUMMARY:Late Start
DESCRIPTION:
URL:https://sms.pendleton.k12.or.us/event/late-start-37/
CATEGORIES:District Wide
END:VEVENT
BEGIN:VEVENT
DTSTART;VALUE=DATE:20231016
DTEND;VALUE=DATE:20231017
DTSTAMP:20260421T102334
CREATED:20230609T162242Z
LAST-MODIFIED:20231016T053749Z
UID:10000591-1697414400-1697500799@sms.pendleton.k12.or.us
SUMMARY:Late Start
DESCRIPTION:
URL:https://sms.pendleton.k12.or.us/event/late-start-36/
CATEGORIES:District Wide
END:VEVENT
BEGIN:VEVENT
DTSTART;VALUE=DATE:20231013
DTEND;VALUE=DATE:20231014
DTSTAMP:20260421T102334
CREATED:20230609T162242Z
LAST-MODIFIED:20231013T052209Z
UID:10000590-1697155200-1697241599@sms.pendleton.k12.or.us
SUMMARY:No School – Statewide In-Service
DESCRIPTION:
URL:https://sms.pendleton.k12.or.us/event/no-school-statewide-in-service/
CATEGORIES:District Wide
END:VEVENT
BEGIN:VEVENT
DTSTART;TZID=America/Los_Angeles:20231009T180000
DTEND;TZID=America/Los_Angeles:20231009T190000
DTSTAMP:20260421T102334
CREATED:20230725T193718Z
LAST-MODIFIED:20231009T050847Z
UID:10000795-1696874400-1696878000@sms.pendleton.k12.or.us
SUMMARY:Board Meeting
DESCRIPTION:Held in the District Office Boardroom.\n6:00-7:00 pm
URL:https://sms.pendleton.k12.or.us/event/board-meeting-27/
CATEGORIES:District Wide
END:VEVENT
BEGIN:VEVENT
DTSTART;VALUE=DATE:20231009
DTEND;VALUE=DATE:20231010
DTSTAMP:20260421T102334
CREATED:20230609T162242Z
LAST-MODIFIED:20231009T050847Z
UID:10000589-1696809600-1696895999@sms.pendleton.k12.or.us
SUMMARY:Late Start
DESCRIPTION:
URL:https://sms.pendleton.k12.or.us/event/late-start-35/
CATEGORIES:District Wide
END:VEVENT
BEGIN:VEVENT
DTSTART;TZID=America/Los_Angeles:20231003T080000
DTEND;TZID=America/Los_Angeles:20231003T090000
DTSTAMP:20260421T102334
CREATED:20230725T193718Z
LAST-MODIFIED:20231003T045149Z
UID:10000794-1696320000-1696323600@sms.pendleton.k12.or.us
SUMMARY:Board Work Session
DESCRIPTION:Held in the District Office Boardroom.\n8:00-9:00 am
URL:https://sms.pendleton.k12.or.us/event/board-work-session-14/
CATEGORIES:District Wide
END:VEVENT
BEGIN:VEVENT
DTSTART;VALUE=DATE:20231002
DTEND;VALUE=DATE:20231003
DTSTAMP:20260421T102334
CREATED:20230609T162242Z
LAST-MODIFIED:20231002T043859Z
UID:10000588-1696204800-1696291199@sms.pendleton.k12.or.us
SUMMARY:Late Start
DESCRIPTION:
URL:https://sms.pendleton.k12.or.us/event/late-start-34/
CATEGORIES:District Wide
END:VEVENT
BEGIN:VEVENT
DTSTART;VALUE=DATE:20230925
DTEND;VALUE=DATE:20230926
DTSTAMP:20260421T102334
CREATED:20230609T162242Z
LAST-MODIFIED:20230925T043607Z
UID:10000587-1695600000-1695686399@sms.pendleton.k12.or.us
SUMMARY:Late Start
DESCRIPTION:
URL:https://sms.pendleton.k12.or.us/event/late-start-33/
CATEGORIES:District Wide
END:VEVENT
BEGIN:VEVENT
DTSTART;TZID=America/Los_Angeles:20230918T180000
DTEND;TZID=America/Los_Angeles:20230918T190000
DTSTAMP:20260421T102334
CREATED:20230725T193718Z
LAST-MODIFIED:20230918T043552Z
UID:10000793-1695060000-1695063600@sms.pendleton.k12.or.us
SUMMARY:Board Meeting
DESCRIPTION:Held in the District Office Boardroom.\n6:00-7:00 pm
URL:https://sms.pendleton.k12.or.us/event/board-meeting-26/
CATEGORIES:District Wide
END:VEVENT
BEGIN:VEVENT
DTSTART;VALUE=DATE:20230918
DTEND;VALUE=DATE:20230919
DTSTAMP:20260421T102334
CREATED:20230609T162242Z
LAST-MODIFIED:20230918T043552Z
UID:10000586-1694995200-1695081599@sms.pendleton.k12.or.us
SUMMARY:Late Start
DESCRIPTION:
URL:https://sms.pendleton.k12.or.us/event/late-start-32/
CATEGORIES:District Wide
END:VEVENT
BEGIN:VEVENT
DTSTART;VALUE=DATE:20230911
DTEND;VALUE=DATE:20230916
DTSTAMP:20260421T102334
CREATED:20230609T162242Z
LAST-MODIFIED:20230911T043704Z
UID:10000585-1694390400-1694822399@sms.pendleton.k12.or.us
SUMMARY:No School – Pendleton Round Up
DESCRIPTION:
URL:https://sms.pendleton.k12.or.us/event/no-school-pendleton-round-up/
CATEGORIES:District Wide
END:VEVENT
BEGIN:VEVENT
DTSTART;TZID=America/Los_Angeles:20230905T080000
DTEND;TZID=America/Los_Angeles:20230905T090000
DTSTAMP:20260421T102334
CREATED:20230725T193718Z
LAST-MODIFIED:20230905T040711Z
UID:10000792-1693900800-1693904400@sms.pendleton.k12.or.us
SUMMARY:Board Work Session
DESCRIPTION:Held in the District Office Boardroom.\n8:00-9:00 am
URL:https://sms.pendleton.k12.or.us/event/board-work-session-13/
CATEGORIES:District Wide
END:VEVENT
BEGIN:VEVENT
DTSTART;VALUE=DATE:20230904
DTEND;VALUE=DATE:20230905
DTSTAMP:20260421T102334
CREATED:20230609T162242Z
LAST-MODIFIED:20230904T040725Z
UID:10000584-1693785600-1693871999@sms.pendleton.k12.or.us
SUMMARY:No School – Labor Day
DESCRIPTION:
URL:https://sms.pendleton.k12.or.us/event/no-school-labor-day/
CATEGORIES:District Wide
END:VEVENT
BEGIN:VEVENT
DTSTART;VALUE=DATE:20230829
DTEND;VALUE=DATE:20230901
DTSTAMP:20260421T102334
CREATED:20230810T205320Z
LAST-MODIFIED:20230829T035208Z
UID:10000813-1693267200-1693526399@sms.pendleton.k12.or.us
SUMMARY:K-1 Soft Start
DESCRIPTION:Kindergarten and Grade 1 will have a soft start from Aug 29-31.  You will receive letters in the mail with details.  If you have questions\, please call your student’s school directly.
URL:https://sms.pendleton.k12.or.us/event/k-1-soft-start/
CATEGORIES:District Wide
END:VEVENT
BEGIN:VEVENT
DTSTART;VALUE=DATE:20230829
DTEND;VALUE=DATE:20230830
DTSTAMP:20260421T102334
CREATED:20230609T162242Z
LAST-MODIFIED:20230829T035208Z
UID:10000723-1693267200-1693353599@sms.pendleton.k12.or.us
SUMMARY:First Day of School
DESCRIPTION:Welcome to 2023-24 school year! Today is the first day of classes for grades 2-12.
URL:https://sms.pendleton.k12.or.us/event/first-day-of-school-3/
CATEGORIES:District Wide
END:VEVENT
BEGIN:VEVENT
DTSTART;VALUE=DATE:20230828
DTEND;VALUE=DATE:20230829
DTSTAMP:20260421T102334
CREATED:20230609T162242Z
LAST-MODIFIED:20230828T035142Z
UID:10000722-1693180800-1693267199@sms.pendleton.k12.or.us
SUMMARY:All Staff In-Service
DESCRIPTION:
URL:https://sms.pendleton.k12.or.us/event/all-staff-in-service-5/
CATEGORIES:District Wide
END:VEVENT
BEGIN:VEVENT
DTSTART;VALUE=DATE:20230825
DTEND;VALUE=DATE:20230826
DTSTAMP:20260421T102334
CREATED:20230609T162242Z
LAST-MODIFIED:20230825T033806Z
UID:10000721-1692921600-1693007999@sms.pendleton.k12.or.us
SUMMARY:All Staff In-Service
DESCRIPTION:
URL:https://sms.pendleton.k12.or.us/event/all-staff-in-service-4/
CATEGORIES:District Wide
END:VEVENT
BEGIN:VEVENT
DTSTART;VALUE=DATE:20230824
DTEND;VALUE=DATE:20230825
DTSTAMP:20260421T102334
CREATED:20230609T162242Z
LAST-MODIFIED:20230824T032834Z
UID:10000720-1692835200-1692921599@sms.pendleton.k12.or.us
SUMMARY:All Staff In-Service
DESCRIPTION:
URL:https://sms.pendleton.k12.or.us/event/certified-staff-in-service-5/
CATEGORIES:District Wide
END:VEVENT
BEGIN:VEVENT
DTSTART;VALUE=DATE:20230823
DTEND;VALUE=DATE:20230824
DTSTAMP:20260421T102334
CREATED:20230609T162241Z
LAST-MODIFIED:20230823T032121Z
UID:10000719-1692748800-1692835199@sms.pendleton.k12.or.us
SUMMARY:Certified Staff In-Service
DESCRIPTION:
URL:https://sms.pendleton.k12.or.us/event/certified-staff-in-service-4/
CATEGORIES:District Wide
END:VEVENT
BEGIN:VEVENT
DTSTART;TZID=America/Los_Angeles:20230814T180000
DTEND;TZID=America/Los_Angeles:20230814T190000
DTSTAMP:20260421T102334
CREATED:20230725T193718Z
LAST-MODIFIED:20230813T212053Z
UID:10000791-1692036000-1692039600@sms.pendleton.k12.or.us
SUMMARY:Board Meeting
DESCRIPTION:Held in the District Office Boardroom.\n6:00-7:00 pm
URL:https://sms.pendleton.k12.or.us/event/board-meeting-25/
CATEGORIES:District Wide
END:VEVENT
BEGIN:VEVENT
DTSTART;TZID=America/Los_Angeles:20230808T080000
DTEND;TZID=America/Los_Angeles:20230808T090000
DTSTAMP:20260421T102334
CREATED:20230725T193717Z
LAST-MODIFIED:20230808T205056Z
UID:10000789-1691481600-1691485200@sms.pendleton.k12.or.us
SUMMARY:Board Work Session
DESCRIPTION:Held in the District Office Boardroom.\n8:00-9:00 am
URL:https://sms.pendleton.k12.or.us/event/board-work-session-12/
CATEGORIES:District Wide
END:VEVENT
BEGIN:VEVENT
DTSTART;VALUE=DATE:20230609
DTEND;VALUE=DATE:20230610
DTSTAMP:20260421T102334
CREATED:20220609T072608Z
LAST-MODIFIED:20230609T162246Z
UID:10000673-1686268800-1686355199@sms.pendleton.k12.or.us
SUMMARY:Staff In-Service – No School
DESCRIPTION:
URL:https://sms.pendleton.k12.or.us/event/staff-in-service-no-school-6/
CATEGORIES:District Wide
END:VEVENT
BEGIN:VEVENT
DTSTART;VALUE=DATE:20230608
DTEND;VALUE=DATE:20230609
DTSTAMP:20260421T102334
CREATED:20220609T072608Z
LAST-MODIFIED:20230608T162258Z
UID:10000674-1686182400-1686268799@sms.pendleton.k12.or.us
SUMMARY:End of 2nd Semester
DESCRIPTION:
URL:https://sms.pendleton.k12.or.us/event/end-of-2nd-semester/
CATEGORIES:District Wide
END:VEVENT
BEGIN:VEVENT
DTSTART;VALUE=DATE:20230608
DTEND;VALUE=DATE:20230609
DTSTAMP:20260421T102334
CREATED:20220608T072047Z
LAST-MODIFIED:20230608T162258Z
UID:10000672-1686182400-1686268799@sms.pendleton.k12.or.us
SUMMARY:Last Day of School – 2 Hr Early Release
DESCRIPTION:
URL:https://sms.pendleton.k12.or.us/event/last-day-of-school-2-hr-early-release/
CATEGORIES:District Wide
END:VEVENT
END:VCALENDAR