BEGIN:VCALENDAR
VERSION:2.0
PRODID:-//Sunridge Middle School - ECPv6.13.0//NONSGML v1.0//EN
CALSCALE:GREGORIAN
METHOD:PUBLISH
X-WR-CALNAME:Sunridge Middle School
X-ORIGINAL-URL:https://sms.pendleton.k12.or.us
X-WR-CALDESC:Events for Sunridge Middle School
REFRESH-INTERVAL;VALUE=DURATION:PT1H
X-Robots-Tag:noindex
X-PUBLISHED-TTL:PT1H
BEGIN:VTIMEZONE
TZID:America/Los_Angeles
BEGIN:DAYLIGHT
TZOFFSETFROM:-0800
TZOFFSETTO:-0700
TZNAME:PDT
DTSTART:20220313T100000
END:DAYLIGHT
BEGIN:STANDARD
TZOFFSETFROM:-0700
TZOFFSETTO:-0800
TZNAME:PST
DTSTART:20221106T090000
END:STANDARD
END:VTIMEZONE
BEGIN:VEVENT
DTSTART;VALUE=DATE:20221111
DTEND;VALUE=DATE:20221112
DTSTAMP:20260421T214335
CREATED:20220514T052129Z
LAST-MODIFIED:20221111T165613Z
UID:10000622-1668124800-1668211199@sms.pendleton.k12.or.us
SUMMARY:Veteran’s Day – No School
DESCRIPTION:
URL:https://sms.pendleton.k12.or.us/event/veterans-day-no-school-2/
CATEGORIES:District Wide
END:VEVENT
BEGIN:VEVENT
DTSTART;VALUE=DATE:20221107
DTEND;VALUE=DATE:20221108
DTSTAMP:20260421T214335
CREATED:20220514T052129Z
LAST-MODIFIED:20221107T165428Z
UID:10000621-1667779200-1667865599@sms.pendleton.k12.or.us
SUMMARY:Late Start
DESCRIPTION:
URL:https://sms.pendleton.k12.or.us/event/late-start-8/
CATEGORIES:District Wide
END:VEVENT
BEGIN:VEVENT
DTSTART;VALUE=DATE:20221031
DTEND;VALUE=DATE:20221101
DTSTAMP:20260421T214335
CREATED:20220514T052129Z
LAST-MODIFIED:20221031T162242Z
UID:10000620-1667174400-1667260799@sms.pendleton.k12.or.us
SUMMARY:Late Start
DESCRIPTION:
URL:https://sms.pendleton.k12.or.us/event/late-start-7/
CATEGORIES:District Wide
END:VEVENT
BEGIN:VEVENT
DTSTART;VALUE=DATE:20221024
DTEND;VALUE=DATE:20221025
DTSTAMP:20260421T214335
CREATED:20220514T052129Z
LAST-MODIFIED:20221024T230823Z
UID:10000619-1666569600-1666655999@sms.pendleton.k12.or.us
SUMMARY:Late Start
DESCRIPTION:
URL:https://sms.pendleton.k12.or.us/event/late-start-6/
CATEGORIES:District Wide
END:VEVENT
BEGIN:VEVENT
DTSTART;VALUE=DATE:20221017
DTEND;VALUE=DATE:20221018
DTSTAMP:20260421T214335
CREATED:20220514T052129Z
LAST-MODIFIED:20221017T224226Z
UID:10000618-1665964800-1666051199@sms.pendleton.k12.or.us
SUMMARY:Late Start
DESCRIPTION:
URL:https://sms.pendleton.k12.or.us/event/late-start-5/
CATEGORIES:District Wide
END:VEVENT
BEGIN:VEVENT
DTSTART;VALUE=DATE:20221014
DTEND;VALUE=DATE:20221015
DTSTAMP:20260421T214335
CREATED:20220604T065247Z
LAST-MODIFIED:20221014T222555Z
UID:10000668-1665705600-1665791999@sms.pendleton.k12.or.us
SUMMARY:In-Service – No School
DESCRIPTION:
URL:https://sms.pendleton.k12.or.us/event/in-service-no-school/
CATEGORIES:District Wide
END:VEVENT
BEGIN:VEVENT
DTSTART;VALUE=DATE:20221010
DTEND;VALUE=DATE:20221011
DTSTAMP:20260421T214335
CREATED:20220514T052129Z
LAST-MODIFIED:20221010T222047Z
UID:10000617-1665360000-1665446399@sms.pendleton.k12.or.us
SUMMARY:Late Start
DESCRIPTION:
URL:https://sms.pendleton.k12.or.us/event/late-start-4/
CATEGORIES:District Wide
END:VEVENT
BEGIN:VEVENT
DTSTART;VALUE=DATE:20221003
DTEND;VALUE=DATE:20221004
DTSTAMP:20260421T214335
CREATED:20220514T052129Z
LAST-MODIFIED:20221003T215038Z
UID:10000616-1664755200-1664841599@sms.pendleton.k12.or.us
SUMMARY:Late Start
DESCRIPTION:
URL:https://sms.pendleton.k12.or.us/event/late-start-3/
CATEGORIES:District Wide
END:VEVENT
BEGIN:VEVENT
DTSTART;VALUE=DATE:20220926
DTEND;VALUE=DATE:20220927
DTSTAMP:20260421T214335
CREATED:20220514T052129Z
LAST-MODIFIED:20220926T210947Z
UID:10000615-1664150400-1664236799@sms.pendleton.k12.or.us
SUMMARY:Late Start
DESCRIPTION:
URL:https://sms.pendleton.k12.or.us/event/late-start-2/
CATEGORIES:District Wide
END:VEVENT
BEGIN:VEVENT
DTSTART;VALUE=DATE:20220919
DTEND;VALUE=DATE:20220920
DTSTAMP:20260421T214335
CREATED:20220514T052129Z
LAST-MODIFIED:20220919T195545Z
UID:10000614-1663545600-1663631999@sms.pendleton.k12.or.us
SUMMARY:Late Start
DESCRIPTION:
URL:https://sms.pendleton.k12.or.us/event/late-start/
CATEGORIES:District Wide
END:VEVENT
BEGIN:VEVENT
DTSTART;VALUE=DATE:20220916
DTEND;VALUE=DATE:20220917
DTSTAMP:20260421T214335
CREATED:20220514T052129Z
LAST-MODIFIED:20220916T194305Z
UID:10000612-1663286400-1663372799@sms.pendleton.k12.or.us
SUMMARY:Pendleton Round-Up & Happy Canyon – No School
DESCRIPTION:
URL:https://sms.pendleton.k12.or.us/event/pendleton-round-up-happy-canyon-no-school-5/
CATEGORIES:District Wide
END:VEVENT
BEGIN:VEVENT
DTSTART;VALUE=DATE:20220915
DTEND;VALUE=DATE:20220916
DTSTAMP:20260421T214335
CREATED:20220514T052129Z
LAST-MODIFIED:20220915T193843Z
UID:10000611-1663200000-1663286399@sms.pendleton.k12.or.us
SUMMARY:Pendleton Round-Up & Happy Canyon – No School
DESCRIPTION:
URL:https://sms.pendleton.k12.or.us/event/pendleton-round-up-happy-canyon-no-school-4/
CATEGORIES:District Wide
END:VEVENT
BEGIN:VEVENT
DTSTART;VALUE=DATE:20220914
DTEND;VALUE=DATE:20220915
DTSTAMP:20260421T214335
CREATED:20220514T052129Z
LAST-MODIFIED:20220914T193628Z
UID:10000609-1663113600-1663199999@sms.pendleton.k12.or.us
SUMMARY:Pendleton Round-Up & Happy Canyon – No School
DESCRIPTION:
URL:https://sms.pendleton.k12.or.us/event/pendleton-round-up-happy-canyon-no-school-3/
CATEGORIES:District Wide
END:VEVENT
BEGIN:VEVENT
DTSTART;VALUE=DATE:20220913
DTEND;VALUE=DATE:20220914
DTSTAMP:20260421T214335
CREATED:20220514T052128Z
LAST-MODIFIED:20220913T193736Z
UID:10000607-1663027200-1663113599@sms.pendleton.k12.or.us
SUMMARY:Pendleton Round-Up & Happy Canyon – No School
DESCRIPTION:
URL:https://sms.pendleton.k12.or.us/event/pendleton-round-up-happy-canyon-no-school-2/
CATEGORIES:District Wide
END:VEVENT
BEGIN:VEVENT
DTSTART;VALUE=DATE:20220912
DTEND;VALUE=DATE:20220913
DTSTAMP:20260421T214335
CREATED:20220514T052128Z
LAST-MODIFIED:20220912T193611Z
UID:10000605-1662940800-1663027199@sms.pendleton.k12.or.us
SUMMARY:Pendleton Round-Up & Happy Canyon – No School
DESCRIPTION:
URL:https://sms.pendleton.k12.or.us/event/pendleton-round-up-happy-canyon-no-school/
CATEGORIES:District Wide
END:VEVENT
BEGIN:VEVENT
DTSTART;VALUE=DATE:20220905
DTEND;VALUE=DATE:20220906
DTSTAMP:20260421T214335
CREATED:20220514T052128Z
LAST-MODIFIED:20220905T185227Z
UID:10000602-1662336000-1662422399@sms.pendleton.k12.or.us
SUMMARY:Labor Day – No School
DESCRIPTION:
URL:https://sms.pendleton.k12.or.us/event/labor-day-no-school-2/
CATEGORIES:District Wide
END:VEVENT
BEGIN:VEVENT
DTSTART;VALUE=DATE:20220830
DTEND;VALUE=DATE:20220831
DTSTAMP:20260421T214335
CREATED:20220514T052128Z
LAST-MODIFIED:20220830T182101Z
UID:10000601-1661817600-1661903999@sms.pendleton.k12.or.us
SUMMARY:School Begins
DESCRIPTION:
URL:https://sms.pendleton.k12.or.us/event/school-begins/
CATEGORIES:District Wide
END:VEVENT
BEGIN:VEVENT
DTSTART;VALUE=DATE:20220829
DTEND;VALUE=DATE:20220830
DTSTAMP:20260421T214335
CREATED:20220514T052128Z
LAST-MODIFIED:20220829T180932Z
UID:10000596-1661731200-1661817599@sms.pendleton.k12.or.us
SUMMARY:All Staff In-Service
DESCRIPTION:
URL:https://sms.pendleton.k12.or.us/event/all-staff-in-service-2/
CATEGORIES:District Wide
END:VEVENT
BEGIN:VEVENT
DTSTART;VALUE=DATE:20220826
DTEND;VALUE=DATE:20220827
DTSTAMP:20260421T214335
CREATED:20220514T052128Z
LAST-MODIFIED:20220826T175047Z
UID:10000594-1661472000-1661558399@sms.pendleton.k12.or.us
SUMMARY:All Staff In-Service
DESCRIPTION:
URL:https://sms.pendleton.k12.or.us/event/all-staff-in-service/
CATEGORIES:District Wide
END:VEVENT
BEGIN:VEVENT
DTSTART;VALUE=DATE:20220825
DTEND;VALUE=DATE:20220826
DTSTAMP:20260421T214335
CREATED:20220607T071004Z
LAST-MODIFIED:20220825T175102Z
UID:10000671-1661385600-1661471999@sms.pendleton.k12.or.us
SUMMARY:All Staff In-Service
DESCRIPTION:
URL:https://sms.pendleton.k12.or.us/event/all-staff-in-service-3/
CATEGORIES:District Wide
END:VEVENT
BEGIN:VEVENT
DTSTART;VALUE=DATE:20220824
DTEND;VALUE=DATE:20220825
DTSTAMP:20260421T214335
CREATED:20220607T071004Z
LAST-MODIFIED:20220824T175104Z
UID:10000670-1661299200-1661385599@sms.pendleton.k12.or.us
SUMMARY:Certified Staff In-Service
DESCRIPTION:
URL:https://sms.pendleton.k12.or.us/event/certified-staff-in-service-3/
CATEGORIES:District Wide
END:VEVENT
BEGIN:VEVENT
DTSTART;VALUE=DATE:20220824
DTEND;VALUE=DATE:20220825
DTSTAMP:20260421T214335
CREATED:20220514T052128Z
LAST-MODIFIED:20220606T065458Z
UID:10000555-1661299200-1661385599@sms.pendleton.k12.or.us
SUMMARY:Certified Staff In-Service
DESCRIPTION:
URL:https://sms.pendleton.k12.or.us/event/certified-staff-in-service/
CATEGORIES:District Wide
END:VEVENT
BEGIN:VEVENT
DTSTART;TZID=America/Los_Angeles:20220711T180000
DTEND;TZID=America/Los_Angeles:20220711T180000
DTSTAMP:20260421T214335
CREATED:20210720T192632Z
LAST-MODIFIED:20220711T120858Z
UID:10000537-1657562400-1657562400@sms.pendleton.k12.or.us
SUMMARY:Board Meeting
DESCRIPTION:District Office
URL:https://sms.pendleton.k12.or.us/event/board-meeting-24/
CATEGORIES:District Wide
END:VEVENT
BEGIN:VEVENT
DTSTART;TZID=America/Los_Angeles:20220613T180000
DTEND;TZID=America/Los_Angeles:20220613T193000
DTSTAMP:20260421T214335
CREATED:20210720T192632Z
LAST-MODIFIED:20220613T081833Z
UID:10000536-1655143200-1655148600@sms.pendleton.k12.or.us
SUMMARY:Board Meeting
DESCRIPTION:District Office
URL:https://sms.pendleton.k12.or.us/event/board-meeting-23/
CATEGORIES:District Wide
END:VEVENT
BEGIN:VEVENT
DTSTART;TZID=America/Los_Angeles:20220610T080000
DTEND;TZID=America/Los_Angeles:20220610T170000
DTSTAMP:20260421T214335
CREATED:20210707T181222Z
LAST-MODIFIED:20220610T073749Z
UID:10000522-1654848000-1654880400@sms.pendleton.k12.or.us
SUMMARY:Staff In-Service – No School
DESCRIPTION:End of 2nd Semester
URL:https://sms.pendleton.k12.or.us/event/staff-in-service-no-school-3/
CATEGORIES:District Wide
END:VEVENT
BEGIN:VEVENT
DTSTART;TZID=America/Los_Angeles:20220609T080000
DTEND;TZID=America/Los_Angeles:20220609T170000
DTSTAMP:20260421T214335
CREATED:20210707T181222Z
LAST-MODIFIED:20220609T072608Z
UID:10000520-1654761600-1654794000@sms.pendleton.k12.or.us
SUMMARY:Last Day of School
DESCRIPTION:
URL:https://sms.pendleton.k12.or.us/event/last-day-of-school-3/
CATEGORIES:District Wide
END:VEVENT
BEGIN:VEVENT
DTSTART;TZID=America/Los_Angeles:20220607T080000
DTEND;TZID=America/Los_Angeles:20220607T090000
DTSTAMP:20260421T214335
CREATED:20210720T192632Z
LAST-MODIFIED:20220607T071006Z
UID:10000535-1654588800-1654592400@sms.pendleton.k12.or.us
SUMMARY:Board Work Session
DESCRIPTION:District Office
URL:https://sms.pendleton.k12.or.us/event/board-work-session-11/
CATEGORIES:District Wide
END:VEVENT
BEGIN:VEVENT
DTSTART;TZID=America/Los_Angeles:20220530T080000
DTEND;TZID=America/Los_Angeles:20220530T170000
DTSTAMP:20260421T214335
CREATED:20210707T181222Z
LAST-MODIFIED:20220530T062549Z
UID:10000511-1653897600-1653930000@sms.pendleton.k12.or.us
SUMMARY:Memorial Day – No School
DESCRIPTION:
URL:https://sms.pendleton.k12.or.us/event/memorial-day-no-school-2/
CATEGORIES:District Wide
END:VEVENT
BEGIN:VEVENT
DTSTART;TZID=America/Los_Angeles:20220513T080000
DTEND;TZID=America/Los_Angeles:20220513T170000
DTSTAMP:20260421T214335
CREATED:20210707T181222Z
LAST-MODIFIED:20220513T052045Z
UID:10000509-1652428800-1652461200@sms.pendleton.k12.or.us
SUMMARY:No School – Possible Snow Make-up Day
DESCRIPTION:
URL:https://sms.pendleton.k12.or.us/event/no-school-possible-snow-make-up-day-2/
CATEGORIES:District Wide
END:VEVENT
BEGIN:VEVENT
DTSTART;TZID=America/Los_Angeles:20220509T180000
DTEND;TZID=America/Los_Angeles:20220509T193000
DTSTAMP:20260421T214335
CREATED:20210720T192632Z
LAST-MODIFIED:20220509T050649Z
UID:10000534-1652119200-1652124600@sms.pendleton.k12.or.us
SUMMARY:Board Meeting
DESCRIPTION:District Office
URL:https://sms.pendleton.k12.or.us/event/board-meeting-22/
CATEGORIES:District Wide
END:VEVENT
END:VCALENDAR