BEGIN:VCALENDAR
VERSION:2.0
PRODID:-//Sunridge Middle School - ECPv6.13.0//NONSGML v1.0//EN
CALSCALE:GREGORIAN
METHOD:PUBLISH
X-WR-CALNAME:Sunridge Middle School
X-ORIGINAL-URL:https://sms.pendleton.k12.or.us
X-WR-CALDESC:Events for Sunridge Middle School
REFRESH-INTERVAL;VALUE=DURATION:PT1H
X-Robots-Tag:noindex
X-PUBLISHED-TTL:PT1H
BEGIN:VTIMEZONE
TZID:America/Los_Angeles
BEGIN:DAYLIGHT
TZOFFSETFROM:-0800
TZOFFSETTO:-0700
TZNAME:PDT
DTSTART:20210314T100000
END:DAYLIGHT
BEGIN:STANDARD
TZOFFSETFROM:-0700
TZOFFSETTO:-0800
TZNAME:PST
DTSTART:20211107T090000
END:STANDARD
END:VTIMEZONE
BEGIN:VEVENT
DTSTART;TZID=America/Los_Angeles:20211125T080000
DTEND;TZID=America/Los_Angeles:20211126T170000
DTSTAMP:20260422T055600
CREATED:20210707T181221Z
LAST-MODIFIED:20211125T103928Z
UID:10000495-1637827200-1637946000@sms.pendleton.k12.or.us
SUMMARY:Thanksgiving Break – No School
DESCRIPTION:
URL:https://sms.pendleton.k12.or.us/event/thanksgiving-break-no-school/
CATEGORIES:District Wide
END:VEVENT
BEGIN:VEVENT
DTSTART;TZID=America/Los_Angeles:20211124T080000
DTEND;TZID=America/Los_Angeles:20211124T170000
DTSTAMP:20260422T055600
CREATED:20210707T181221Z
LAST-MODIFIED:20211124T102551Z
UID:10000494-1637740800-1637773200@sms.pendleton.k12.or.us
SUMMARY:No School
DESCRIPTION:
URL:https://sms.pendleton.k12.or.us/event/no-school-2/
CATEGORIES:District Wide
END:VEVENT
BEGIN:VEVENT
DTSTART;TZID=America/Los_Angeles:20211123T080000
DTEND;TZID=America/Los_Angeles:20211123T193000
DTSTAMP:20260422T055600
CREATED:20210707T181221Z
LAST-MODIFIED:20211123T102539Z
UID:10000493-1637654400-1637695800@sms.pendleton.k12.or.us
SUMMARY:Parent/Teacher Conferences – No School
DESCRIPTION:No School \nDay & Evening conferences
URL:https://sms.pendleton.k12.or.us/event/parent-teacher-conferences/
CATEGORIES:District Wide
END:VEVENT
BEGIN:VEVENT
DTSTART;TZID=America/Los_Angeles:20211122T153000
DTEND;TZID=America/Los_Angeles:20211122T193000
DTSTAMP:20260422T055600
CREATED:20210707T181221Z
LAST-MODIFIED:20211122T102744Z
UID:10000492-1637595000-1637609400@sms.pendleton.k12.or.us
SUMMARY:Evening Parent/Teacher Conferences
DESCRIPTION:
URL:https://sms.pendleton.k12.or.us/event/evening-parent-teacher-conferences/
CATEGORIES:District Wide
END:VEVENT
BEGIN:VEVENT
DTSTART;TZID=America/Los_Angeles:20211111T080000
DTEND;TZID=America/Los_Angeles:20211111T170000
DTSTAMP:20260422T055600
CREATED:20210707T181221Z
LAST-MODIFIED:20211111T100903Z
UID:10000491-1636617600-1636650000@sms.pendleton.k12.or.us
SUMMARY:Veteran’s Day – No School
DESCRIPTION:
URL:https://sms.pendleton.k12.or.us/event/veterans-day-no-school/
CATEGORIES:District Wide
END:VEVENT
BEGIN:VEVENT
DTSTART;TZID=America/Los_Angeles:20211108T180000
DTEND;TZID=America/Los_Angeles:20211108T193000
DTSTAMP:20260422T055600
CREATED:20210720T192631Z
LAST-MODIFIED:20211108T100819Z
UID:10000454-1636394400-1636399800@sms.pendleton.k12.or.us
SUMMARY:Board Meeting
DESCRIPTION:CTUIR
URL:https://sms.pendleton.k12.or.us/event/board-meeting-16/
CATEGORIES:District Wide
END:VEVENT
BEGIN:VEVENT
DTSTART;TZID=America/Los_Angeles:20211102T080000
DTEND;TZID=America/Los_Angeles:20211102T090000
DTSTAMP:20260422T055600
CREATED:20210720T192631Z
LAST-MODIFIED:20211102T095419Z
UID:10000452-1635840000-1635843600@sms.pendleton.k12.or.us
SUMMARY:Board Work Session
DESCRIPTION:District Office
URL:https://sms.pendleton.k12.or.us/event/board-work-session-4/
CATEGORIES:District Wide
END:VEVENT
BEGIN:VEVENT
DTSTART;TZID=America/Los_Angeles:20211011T180000
DTEND;TZID=America/Los_Angeles:20211011T193000
DTSTAMP:20260422T055600
CREATED:20210720T192631Z
LAST-MODIFIED:20211011T085407Z
UID:10000450-1633975200-1633980600@sms.pendleton.k12.or.us
SUMMARY:Board Meeting
DESCRIPTION:District Office
URL:https://sms.pendleton.k12.or.us/event/board-meeting-15/
CATEGORIES:District Wide
END:VEVENT
BEGIN:VEVENT
DTSTART;TZID=America/Los_Angeles:20211008T080000
DTEND;TZID=America/Los_Angeles:20211008T170000
DTSTAMP:20260422T055600
CREATED:20210707T181221Z
LAST-MODIFIED:20211008T084355Z
UID:10000490-1633680000-1633712400@sms.pendleton.k12.or.us
SUMMARY:Statewide In-service – No School
DESCRIPTION:
URL:https://sms.pendleton.k12.or.us/event/statewide-in-service-no-school/
CATEGORIES:District Wide
END:VEVENT
BEGIN:VEVENT
DTSTART;TZID=America/Los_Angeles:20211005T080000
DTEND;TZID=America/Los_Angeles:20211005T090000
DTSTAMP:20260422T055600
CREATED:20210720T192631Z
LAST-MODIFIED:20211005T034054Z
UID:10000529-1633420800-1633424400@sms.pendleton.k12.or.us
SUMMARY:Board Work Session
DESCRIPTION:District Office
URL:https://sms.pendleton.k12.or.us/event/board-work-session-3/
CATEGORIES:District Wide
END:VEVENT
BEGIN:VEVENT
DTSTART;TZID=America/Los_Angeles:20210920T180000
DTEND;TZID=America/Los_Angeles:20210920T193000
DTSTAMP:20260422T055600
CREATED:20210720T192631Z
LAST-MODIFIED:20210920T234114Z
UID:10000528-1632160800-1632166200@sms.pendleton.k12.or.us
SUMMARY:Board Meeting
DESCRIPTION:District Office
URL:https://sms.pendleton.k12.or.us/event/board-meeting-14/
CATEGORIES:District Wide
END:VEVENT
BEGIN:VEVENT
DTSTART;TZID=America/Los_Angeles:20210913T080000
DTEND;TZID=America/Los_Angeles:20210917T170000
DTSTAMP:20260422T055600
CREATED:20210707T181221Z
LAST-MODIFIED:20210913T230850Z
UID:10000489-1631520000-1631898000@sms.pendleton.k12.or.us
SUMMARY:Pendleton Round-Up – No School
DESCRIPTION:
URL:https://sms.pendleton.k12.or.us/event/pendleton-round-up-no-school/
CATEGORIES:District Wide
END:VEVENT
BEGIN:VEVENT
DTSTART;TZID=America/Los_Angeles:20210907T080000
DTEND;TZID=America/Los_Angeles:20210907T090000
DTSTAMP:20260422T055600
CREATED:20210720T192631Z
LAST-MODIFIED:20210907T223903Z
UID:10000527-1631001600-1631005200@sms.pendleton.k12.or.us
SUMMARY:Board Work Session
DESCRIPTION:District Office
URL:https://sms.pendleton.k12.or.us/event/board-work-session-2/
CATEGORIES:District Wide
END:VEVENT
BEGIN:VEVENT
DTSTART;TZID=America/Los_Angeles:20210906T080000
DTEND;TZID=America/Los_Angeles:20210906T170000
DTSTAMP:20260422T055600
CREATED:20210707T181221Z
LAST-MODIFIED:20210906T223839Z
UID:10000488-1630915200-1630947600@sms.pendleton.k12.or.us
SUMMARY:Labor Day – No School
DESCRIPTION:
URL:https://sms.pendleton.k12.or.us/event/labor-day-no-school/
CATEGORIES:District Wide
END:VEVENT
BEGIN:VEVENT
DTSTART;VALUE=DATE:20210831
DTEND;VALUE=DATE:20210901
DTSTAMP:20260422T055600
CREATED:20210707T181221Z
LAST-MODIFIED:20210831T222333Z
UID:10000487-1630368000-1630454399@sms.pendleton.k12.or.us
SUMMARY:First Day of School*
DESCRIPTION:*All Kindergarten and 1st grade students first day will be September 7
URL:https://sms.pendleton.k12.or.us/event/first-day-of-school-2/
CATEGORIES:District Wide
END:VEVENT
BEGIN:VEVENT
DTSTART;VALUE=DATE:20210830
DTEND;VALUE=DATE:20210831
DTSTAMP:20260422T055600
CREATED:20210630T173201Z
LAST-MODIFIED:20210830T222319Z
UID:10000486-1630281600-1630367999@sms.pendleton.k12.or.us
SUMMARY:Staff In-service
DESCRIPTION:
URL:https://sms.pendleton.k12.or.us/event/staff-in-service-6/
CATEGORIES:District Wide
END:VEVENT
BEGIN:VEVENT
DTSTART;VALUE=DATE:20210827
DTEND;VALUE=DATE:20210828
DTSTAMP:20260422T055600
CREATED:20210630T173201Z
LAST-MODIFIED:20210827T220914Z
UID:10000485-1630022400-1630108799@sms.pendleton.k12.or.us
SUMMARY:Staff In-service
DESCRIPTION:
URL:https://sms.pendleton.k12.or.us/event/staff-in-service-5/
CATEGORIES:District Wide
END:VEVENT
BEGIN:VEVENT
DTSTART;VALUE=DATE:20210826
DTEND;VALUE=DATE:20210827
DTSTAMP:20260422T055600
CREATED:20210630T173201Z
LAST-MODIFIED:20210826T220902Z
UID:10000484-1629936000-1630022399@sms.pendleton.k12.or.us
SUMMARY:Staff In-service
DESCRIPTION:
URL:https://sms.pendleton.k12.or.us/event/staff-in-service-4/
CATEGORIES:District Wide
END:VEVENT
BEGIN:VEVENT
DTSTART;VALUE=DATE:20210825
DTEND;VALUE=DATE:20210826
DTSTAMP:20260422T055600
CREATED:20210630T173201Z
LAST-MODIFIED:20210825T221025Z
UID:10000483-1629849600-1629935999@sms.pendleton.k12.or.us
SUMMARY:Staff In-service
DESCRIPTION:
URL:https://sms.pendleton.k12.or.us/event/staff-in-service-3/
CATEGORIES:District Wide
END:VEVENT
BEGIN:VEVENT
DTSTART;VALUE=DATE:20210823
DTEND;VALUE=DATE:20210824
DTSTAMP:20260422T055600
CREATED:20210630T173201Z
LAST-MODIFIED:20210823T221012Z
UID:10000482-1629676800-1629763199@sms.pendleton.k12.or.us
SUMMARY:Staff In-service
DESCRIPTION:
URL:https://sms.pendleton.k12.or.us/event/staff-in-service-2/
CATEGORIES:District Wide
END:VEVENT
BEGIN:VEVENT
DTSTART;TZID=America/Los_Angeles:20210809T180000
DTEND;TZID=America/Los_Angeles:20210809T193000
DTSTAMP:20260422T055600
CREATED:20210720T192631Z
LAST-MODIFIED:20210809T212341Z
UID:10000526-1628532000-1628537400@sms.pendleton.k12.or.us
SUMMARY:Board Meeting
DESCRIPTION:District Office
URL:https://sms.pendleton.k12.or.us/event/board-meeting-13/
CATEGORIES:District Wide
END:VEVENT
BEGIN:VEVENT
DTSTART;TZID=America/Los_Angeles:20210803T080000
DTEND;TZID=America/Los_Angeles:20210803T090000
DTSTAMP:20260422T055600
CREATED:20210720T192631Z
LAST-MODIFIED:20210803T210908Z
UID:10000525-1627977600-1627981200@sms.pendleton.k12.or.us
SUMMARY:Board Work Session
DESCRIPTION:District Office
URL:https://sms.pendleton.k12.or.us/event/board-work-session/
CATEGORIES:District Wide
END:VEVENT
BEGIN:VEVENT
DTSTART;TZID=America/Los_Angeles:20210712T180000
DTEND;TZID=America/Los_Angeles:20210712T200000
DTSTAMP:20260422T055600
CREATED:20200716T215708Z
LAST-MODIFIED:20210712T184321Z
UID:10000455-1626112800-1626120000@sms.pendleton.k12.or.us
SUMMARY:Board Meeting
DESCRIPTION:The Pendleton School District Board of Directors will meet for a Regular Board Meeting in the District Office Board Room.  The board agenda/packet can be viewed on the district website.
URL:https://sms.pendleton.k12.or.us/event/board-meeting-12/
CATEGORIES:District Wide
END:VEVENT
BEGIN:VEVENT
DTSTART;TZID=America/Los_Angeles:20210614T180000
DTEND;TZID=America/Los_Angeles:20210614T200000
DTSTAMP:20260422T055600
CREATED:20200716T215708Z
LAST-MODIFIED:20210614T152333Z
UID:10000453-1623693600-1623700800@sms.pendleton.k12.or.us
SUMMARY:Board Meeting
DESCRIPTION:The Pendleton School District Board of Directors will meet for a Regular Board Meeting in the District Office Board Room.  The board agenda/packet can be viewed on the district website.
URL:https://sms.pendleton.k12.or.us/event/board-meeting-11/
CATEGORIES:District Wide
END:VEVENT
BEGIN:VEVENT
DTSTART;TZID=America/Los_Angeles:20210517T080000
DTEND;TZID=America/Los_Angeles:20210517T170000
DTSTAMP:20260422T055600
CREATED:20200916T094856Z
LAST-MODIFIED:20210517T070111Z
UID:10000405-1621238400-1621270800@sms.pendleton.k12.or.us
SUMMARY:Parents Night
DESCRIPTION:Join us to learn strategies that are used in our classrooms to support the Social Emotional Learning (SEL) of all students and adults.  During these sessions\, we will provide make and takes to use at home.  As each date approaches\, your child’s teacher will be sending out more information. \nSeptember 21\, 2020 – Introduction\nOctober 19\, 2020 –  (Canceled)\nNovember 16\, 2020 – Composure\nJanuary 11\, 2021 – Assertiveness\nFebruary 8\, 2021 – Encouragement\nMarch 15\, 2021 – Choices\nApril 19\, 2021 – Empathy\nMay 17\, 2021 – Positive Intent \nEach session will be from 6 pm – 7 pm.
URL:https://sms.pendleton.k12.or.us/event/parents-night-7/
CATEGORIES:District Wide
END:VEVENT
BEGIN:VEVENT
DTSTART;TZID=America/Los_Angeles:20210510T180000
DTEND;TZID=America/Los_Angeles:20210510T200000
DTSTAMP:20260422T055600
CREATED:20200716T215708Z
LAST-MODIFIED:20210510T054924Z
UID:10000451-1620669600-1620676800@sms.pendleton.k12.or.us
SUMMARY:Board Meeting
DESCRIPTION:The Pendleton School District Board of Directors will meet for a Regular Board Meeting in the District Office Board Room.  The board agenda/packet can be viewed on the district website.
URL:https://sms.pendleton.k12.or.us/event/board-meeting-10/
CATEGORIES:District Wide
END:VEVENT
BEGIN:VEVENT
DTSTART;TZID=America/Los_Angeles:20210419T080000
DTEND;TZID=America/Los_Angeles:20210419T170000
DTSTAMP:20260422T055600
CREATED:20200916T094856Z
LAST-MODIFIED:20210419T030348Z
UID:10000404-1618819200-1618851600@sms.pendleton.k12.or.us
SUMMARY:Parents Night
DESCRIPTION:Join us to learn strategies that are used in our classrooms to support the Social Emotional Learning (SEL) of all students and adults.  During these sessions\, we will provide make and takes to use at home.  As each date approaches\, your child’s teacher will be sending out more information. \nSeptember 21\, 2020 – Introduction\nOctober 19\, 2020 –  (Canceled)\nNovember 16\, 2020 – Composure\nJanuary 11\, 2021 – Assertiveness\nFebruary 8\, 2021 – Encouragement\nMarch 15\, 2021 – Choices\nApril 19\, 2021 – Empathy\nMay 17\, 2021 – Positive Intent \nEach session will be from 6 pm – 7 pm.
URL:https://sms.pendleton.k12.or.us/event/parents-night-6/
CATEGORIES:District Wide
END:VEVENT
BEGIN:VEVENT
DTSTART;TZID=America/Los_Angeles:20210412T180000
DTEND;TZID=America/Los_Angeles:20210412T200000
DTSTAMP:20260422T055600
CREATED:20200716T215708Z
LAST-MODIFIED:20210412T231451Z
UID:10000449-1618250400-1618257600@sms.pendleton.k12.or.us
SUMMARY:Board Meeting
DESCRIPTION:The Pendleton School District Board of Directors will meet for a Regular Board Meeting in the District Office Board Room.  The board agenda/packet can be viewed on the district website.
URL:https://sms.pendleton.k12.or.us/event/board-meeting-9/
CATEGORIES:District Wide
END:VEVENT
BEGIN:VEVENT
DTSTART;VALUE=DATE:20210412
DTEND;VALUE=DATE:20210413
DTSTAMP:20260422T055600
CREATED:20210401T212912Z
LAST-MODIFIED:20210412T231451Z
UID:10000479-1618185600-1618271999@sms.pendleton.k12.or.us
SUMMARY:K-5 Students Return Full-Time
DESCRIPTION:Pendleton School District will be moving K-5 students from Hybrid to in-person learning full-time beginning Monday\, April 12.\nThe elementary school day will be from 8 AM to 2:30 PM.
URL:https://sms.pendleton.k12.or.us/event/k-5-students-return-full-time/
CATEGORIES:District Wide
END:VEVENT
BEGIN:VEVENT
DTSTART;VALUE=DATE:20210329
DTEND;VALUE=DATE:20210330
DTSTAMP:20260422T055601
CREATED:20210213T160106Z
LAST-MODIFIED:20210329T211400Z
UID:10000478-1616976000-1617062399@sms.pendleton.k12.or.us
SUMMARY:K-5 Hybrid & Grades 6-12 Hybrid*
DESCRIPTION:March 29 – June 4\, 2021  –  K-5 Hybrid & Grades 6-12 Hybrid* \nElementary:\nMonitor Elementary Hybrid \nSecondary:\nInitiate Secondary transition from CDL to Hybrid Plan\nMonitor Secondary Hybrid Implementation \n*These dates and activities are subject to change depending on the existing circumstances.  Activities can be pushed up or pushed back. \nSuperintendent Message – February 9\, 2021
URL:https://sms.pendleton.k12.or.us/event/k-5-in-person-instruction-grades-6-12-hybrid/
CATEGORIES:District Wide
END:VEVENT
END:VCALENDAR