BEGIN:VCALENDAR
VERSION:2.0
PRODID:-//Sunridge Middle School - ECPv6.13.0//NONSGML v1.0//EN
CALSCALE:GREGORIAN
METHOD:PUBLISH
X-ORIGINAL-URL:https://sms.pendleton.k12.or.us
X-WR-CALDESC:Events for Sunridge Middle School
REFRESH-INTERVAL;VALUE=DURATION:PT1H
X-Robots-Tag:noindex
X-PUBLISHED-TTL:PT1H
BEGIN:VTIMEZONE
TZID:America/Los_Angeles
BEGIN:DAYLIGHT
TZOFFSETFROM:-0800
TZOFFSETTO:-0700
TZNAME:PDT
DTSTART:20200308T100000
END:DAYLIGHT
BEGIN:STANDARD
TZOFFSETFROM:-0700
TZOFFSETTO:-0800
TZNAME:PST
DTSTART:20201101T090000
END:STANDARD
BEGIN:DAYLIGHT
TZOFFSETFROM:-0800
TZOFFSETTO:-0700
TZNAME:PDT
DTSTART:20210314T100000
END:DAYLIGHT
BEGIN:STANDARD
TZOFFSETFROM:-0700
TZOFFSETTO:-0800
TZNAME:PST
DTSTART:20211107T090000
END:STANDARD
BEGIN:DAYLIGHT
TZOFFSETFROM:-0800
TZOFFSETTO:-0700
TZNAME:PDT
DTSTART:20220313T100000
END:DAYLIGHT
BEGIN:STANDARD
TZOFFSETFROM:-0700
TZOFFSETTO:-0800
TZNAME:PST
DTSTART:20221106T090000
END:STANDARD
BEGIN:DAYLIGHT
TZOFFSETFROM:-0800
TZOFFSETTO:-0700
TZNAME:PDT
DTSTART:20230312T100000
END:DAYLIGHT
BEGIN:STANDARD
TZOFFSETFROM:-0700
TZOFFSETTO:-0800
TZNAME:PST
DTSTART:20231105T090000
END:STANDARD
END:VTIMEZONE
BEGIN:VEVENT
DTSTART;TZID=America/Los_Angeles:20230503T190000
DTEND;TZID=America/Los_Angeles:20230503T200000
DTSTAMP:20260419T065633
CREATED:20220901T183622Z
LAST-MODIFIED:20230503T143657Z
UID:10000681-1683140400-1683144000@sms.pendleton.k12.or.us
SUMMARY:PHS BroadMay Concert
DESCRIPTION:Swing Choir Only \nPHS Auditorium
URL:https://sms.pendleton.k12.or.us/event/phs-broadmay-concert/
CATEGORIES:Pendleton High School
END:VEVENT
BEGIN:VEVENT
DTSTART;TZID=America/Los_Angeles:20230322T190000
DTEND;TZID=America/Los_Angeles:20230322T200000
DTSTAMP:20260419T065633
CREATED:20220901T183621Z
LAST-MODIFIED:20230322T083605Z
UID:10000680-1679511600-1679515200@sms.pendleton.k12.or.us
SUMMARY:PHS Spring Instrumental Concert
DESCRIPTION:PHS Auditorium
URL:https://sms.pendleton.k12.or.us/event/phs-spring-instrumental-concert/
CATEGORIES:Pendleton High School
END:VEVENT
BEGIN:VEVENT
DTSTART;TZID=America/Los_Angeles:20230320T190000
DTEND;TZID=America/Los_Angeles:20230320T200000
DTSTAMP:20260419T065633
CREATED:20220901T183621Z
LAST-MODIFIED:20230320T083538Z
UID:10000679-1679338800-1679342400@sms.pendleton.k12.or.us
SUMMARY:PHS Spring Choral Concert
DESCRIPTION:PHS Auditorium
URL:https://sms.pendleton.k12.or.us/event/phs-spring-choral-concert/
CATEGORIES:Pendleton High School
END:VEVENT
BEGIN:VEVENT
DTSTART;TZID=America/Los_Angeles:20221219T190000
DTEND;TZID=America/Los_Angeles:20221219T200000
DTSTAMP:20260419T065633
CREATED:20220901T183621Z
LAST-MODIFIED:20221219T192055Z
UID:10000678-1671476400-1671480000@sms.pendleton.k12.or.us
SUMMARY:PHS Winter Instrumental Concert
DESCRIPTION:PHS Auditorium
URL:https://sms.pendleton.k12.or.us/event/phs-winter-instrumental-concert/
CATEGORIES:Pendleton High School
END:VEVENT
BEGIN:VEVENT
DTSTART;TZID=America/Los_Angeles:20221215T190000
DTEND;TZID=America/Los_Angeles:20221215T200000
DTSTAMP:20260419T065633
CREATED:20220901T183621Z
LAST-MODIFIED:20221215T192200Z
UID:10000677-1671130800-1671134400@sms.pendleton.k12.or.us
SUMMARY:PHS Winter Choral Concert
DESCRIPTION:PHS Auditorium
URL:https://sms.pendleton.k12.or.us/event/phs-winter-choral-concert/
CATEGORIES:Pendleton High School
END:VEVENT
BEGIN:VEVENT
DTSTART;TZID=America/Los_Angeles:20221027T190000
DTEND;TZID=America/Los_Angeles:20221027T200000
DTSTAMP:20260419T065633
CREATED:20220901T183620Z
LAST-MODIFIED:20221027T232611Z
UID:10000676-1666897200-1666900800@sms.pendleton.k12.or.us
SUMMARY:PHS Orchestra Nosferatu Performance
DESCRIPTION:PHS Auditorium
URL:https://sms.pendleton.k12.or.us/event/phs-orchestra-nosferatu-performance/
CATEGORIES:Pendleton High School
END:VEVENT
BEGIN:VEVENT
DTSTART;TZID=America/Los_Angeles:20221026T190000
DTEND;TZID=America/Los_Angeles:20221026T200000
DTSTAMP:20260419T065633
CREATED:20220901T183620Z
LAST-MODIFIED:20221026T231115Z
UID:10000675-1666810800-1666814400@sms.pendleton.k12.or.us
SUMMARY:PHS Fall Preview Concert
DESCRIPTION:PHS Auditorium
URL:https://sms.pendleton.k12.or.us/event/phs-fall-preview-concert/
CATEGORIES:Pendleton High School
END:VEVENT
BEGIN:VEVENT
DTSTART;TZID=America/Los_Angeles:20220829T090000
DTEND;TZID=America/Los_Angeles:20220829T140000
DTSTAMP:20260419T065633
CREATED:20220514T052128Z
LAST-MODIFIED:20220829T180932Z
UID:10000598-1661763600-1661781600@sms.pendleton.k12.or.us
SUMMARY:PHS Link Crew
DESCRIPTION:Freshmen only.  BBQ lunch will be served.  Students will not need paper\, books\, backpacks\, etc.
URL:https://sms.pendleton.k12.or.us/event/phs-link-crew/
CATEGORIES:Pendleton High School
END:VEVENT
BEGIN:VEVENT
DTSTART;TZID=America/Los_Angeles:20220816T140000
DTEND;TZID=America/Los_Angeles:20220816T190000
DTSTAMP:20260419T065633
CREATED:20220520T053948Z
LAST-MODIFIED:20220816T173627Z
UID:10000661-1660658400-1660676400@sms.pendleton.k12.or.us
SUMMARY:PHS Registration
DESCRIPTION:August 16th:  7 am – 1 pm and 2 pm – 7 pm
URL:https://sms.pendleton.k12.or.us/event/phs-registration-3/
CATEGORIES:Pendleton High School
END:VEVENT
BEGIN:VEVENT
DTSTART;TZID=America/Los_Angeles:20220816T070000
DTEND;TZID=America/Los_Angeles:20220816T130000
DTSTAMP:20260419T065633
CREATED:20220520T053948Z
LAST-MODIFIED:20220816T173626Z
UID:10000657-1660633200-1660654800@sms.pendleton.k12.or.us
SUMMARY:PHS Registration
DESCRIPTION:August 16th:  7 am – 1 pm and 2 pm – 7 pm
URL:https://sms.pendleton.k12.or.us/event/phs-registration-2/
CATEGORIES:Pendleton High School
END:VEVENT
BEGIN:VEVENT
DTSTART;VALUE=DATE:20220815
DTEND;VALUE=DATE:20220816
DTSTAMP:20260419T065633
CREATED:20220514T052128Z
LAST-MODIFIED:20220815T172638Z
UID:10000553-1660521600-1660607999@sms.pendleton.k12.or.us
SUMMARY:First Day of Fall Sports
DESCRIPTION:Athletes must have the following to participate on August 15\, 2022: \n\nCompleted online or updated registration\nMedical insurance\nEligible (within 2 years) sports physical on OSAA form revised May 2016\, that is on file in the PHS Athletic Office.\n\nQuestions?  Call the Athletic Office at 541-966-3802
URL:https://sms.pendleton.k12.or.us/event/first-day-of-fall-sports/
CATEGORIES:Pendleton High School
END:VEVENT
BEGIN:VEVENT
DTSTART;VALUE=DATE:20220711
DTEND;VALUE=DATE:20220712
DTSTAMP:20260419T065633
CREATED:20220514T052128Z
LAST-MODIFIED:20220711T120858Z
UID:10000551-1657497600-1657583999@sms.pendleton.k12.or.us
SUMMARY:Fall Sports – First Day to register online
DESCRIPTION:To register for the first time or to update a previous registration. \nOnline Registration Form \nQuestions?  Call the Athletic Office at 541-966-3802 \n 
URL:https://sms.pendleton.k12.or.us/event/fall-sports-first-day-to-register-online/
CATEGORIES:Pendleton High School
END:VEVENT
BEGIN:VEVENT
DTSTART;TZID=America/Los_Angeles:20220604T100000
DTEND;TZID=America/Los_Angeles:20220604T113000
DTSTAMP:20260419T065633
CREATED:20210707T181222Z
LAST-MODIFIED:20220604T065248Z
UID:10000517-1654336800-1654342200@sms.pendleton.k12.or.us
SUMMARY:PHS Graduation
DESCRIPTION:
URL:https://sms.pendleton.k12.or.us/event/phs-graduation-2/
CATEGORIES:Pendleton High School
END:VEVENT
BEGIN:VEVENT
DTSTART;TZID=America/Los_Angeles:20220602T080000
DTEND;TZID=America/Los_Angeles:20220602T170000
DTSTAMP:20260419T065633
CREATED:20210707T181222Z
LAST-MODIFIED:20220602T063813Z
UID:10000515-1654156800-1654189200@sms.pendleton.k12.or.us
SUMMARY:Seniors Last Day
DESCRIPTION:
URL:https://sms.pendleton.k12.or.us/event/seniors-last-day-3/
CATEGORIES:Pendleton High School
END:VEVENT
BEGIN:VEVENT
DTSTART;TZID=America/Los_Angeles:20210818T073000
DTEND;TZID=America/Los_Angeles:20210818T190000
DTSTAMP:20260419T065633
CREATED:20210804T212312Z
LAST-MODIFIED:20210818T215629Z
UID:10000538-1629271800-1629313200@sms.pendleton.k12.or.us
SUMMARY:PHS Registration – Day 2 of 2
DESCRIPTION:PHS registration will be Tuesday\, August 17\, from 7 am – 8 pm and Wednesday\, August 18\, from 7:30 -1 pm and 3 – 7 pm. \nKimi Carlson\nAdministrative Secretary\nPendleton High School\n(541) 966-3804
URL:https://sms.pendleton.k12.or.us/event/phs-registration-day-2-of-2/
CATEGORIES:Pendleton High School
END:VEVENT
BEGIN:VEVENT
DTSTART;VALUE=DATE:20200530
DTEND;VALUE=DATE:20200531
DTSTAMP:20260419T065633
CREATED:20200408T195628Z
LAST-MODIFIED:20200530T170116Z
UID:10000406-1590796800-1590883199@sms.pendleton.k12.or.us
SUMMARY:PHS Graduation Class of 2020
DESCRIPTION:Edited 5/19/20 – Pendleton High School Graduation\, Drive-Through Format at Round-Up Grounds:  May 30\, 10:00 am. \nEdited – Pendleton High School will be conducting its graduation ceremony on Saturday\, May 30th.  Due to the pandemic impacts and social restrictions that are currently in place\, this year’s ceremony will be different from year’s past\, in particular\, we will be utilizing a “drive-thru” strategy.  There is a limit of one vehicle per graduate to the presentation of diplomas that will take place at the Round-Up Grounds.  Despite these historic times\, we are excited to be able to honor our graduating seniors in the Class of 2020. \nDue to COVID-19 and Oregon’s Governor closing school buildings through the end of the academic year\, Graduation is to be determined.
URL:https://sms.pendleton.k12.or.us/event/phs-graduation-class-of-2020/
CATEGORIES:Pendleton High School
END:VEVENT
BEGIN:VEVENT
DTSTART;TZID=America/Los_Angeles:20200529T100000
DTEND;TZID=America/Los_Angeles:20200529T143000
DTSTAMP:20260419T065633
CREATED:20200520T161648Z
LAST-MODIFIED:20200529T170040Z
UID:10000417-1590746400-1590762600@sms.pendleton.k12.or.us
SUMMARY:Seniors Final Drive-Through Check-Out
DESCRIPTION:Final Drive-Through Check-Out\, May 29\, 10-2:30 pm (return books and other school property\, pay fees)  Senior Parents distribute gifts to seniors 10-12:00 pm at Warberg Court.
URL:https://sms.pendleton.k12.or.us/event/seniors-final-drive-through-check-out/
CATEGORIES:Pendleton High School
END:VEVENT
BEGIN:VEVENT
DTSTART;TZID=America/Los_Angeles:20200528T190000
DTEND;TZID=America/Los_Angeles:20200528T200000
DTSTAMP:20260419T065633
CREATED:20200520T161648Z
LAST-MODIFIED:20200528T165851Z
UID:10000416-1590692400-1590696000@sms.pendleton.k12.or.us
SUMMARY:Baccalaureate
DESCRIPTION:Baccalaureate via Google Meeting:  May 28\, 7:00 pm.  (sponsored by Chris Thatcher and Young Life)
URL:https://sms.pendleton.k12.or.us/event/baccalaureate-2/
CATEGORIES:Pendleton High School
END:VEVENT
BEGIN:VEVENT
DTSTART;TZID=America/Los_Angeles:20200527T190000
DTEND;TZID=America/Los_Angeles:20200527T200000
DTSTAMP:20260419T065633
CREATED:20200520T161648Z
LAST-MODIFIED:20200527T164700Z
UID:10000415-1590606000-1590609600@sms.pendleton.k12.or.us
SUMMARY:PHS Scholarship Night
DESCRIPTION:Scholarship Night via Google Meeting:  May 27\, 7:00 pm.
URL:https://sms.pendleton.k12.or.us/event/phs-scholarship-night/
CATEGORIES:Pendleton High School
END:VEVENT
BEGIN:VEVENT
DTSTART;VALUE=DATE:20200527
DTEND;VALUE=DATE:20200528
DTSTAMP:20260419T065633
CREATED:20200408T195628Z
LAST-MODIFIED:20200527T164700Z
UID:10000403-1590537600-1590623999@sms.pendleton.k12.or.us
SUMMARY:Seniors Last Day
DESCRIPTION:
URL:https://sms.pendleton.k12.or.us/event/seniors-last-day/
CATEGORIES:Pendleton High School
END:VEVENT
BEGIN:VEVENT
DTSTART;TZID=America/Los_Angeles:20200519T193000
DTEND;TZID=America/Los_Angeles:20200519T193000
DTSTAMP:20260419T065633
CREATED:20200408T195628Z
LAST-MODIFIED:20200514T154601Z
UID:10000400-1589916600-1589916600@sms.pendleton.k12.or.us
SUMMARY:PHS Instrumental Awards Concert – canceled
DESCRIPTION:PHS Auditorium – Note time change to 7:30 p.m.
URL:https://sms.pendleton.k12.or.us/event/phs-instrumental-awards-concert/
CATEGORIES:Pendleton High School
END:VEVENT
BEGIN:VEVENT
DTSTART;TZID=America/Los_Angeles:20200518T193000
DTEND;TZID=America/Los_Angeles:20200518T193000
DTSTAMP:20260419T065633
CREATED:20200408T195628Z
LAST-MODIFIED:20200514T154601Z
UID:10000398-1589830200-1589830200@sms.pendleton.k12.or.us
SUMMARY:PHS Choral Awards Concert – canceled
DESCRIPTION:PHS Auditorium – Note time changed to 7:30 p.m.
URL:https://sms.pendleton.k12.or.us/event/phs-choral-awards-concert/
CATEGORIES:Pendleton High School
END:VEVENT
BEGIN:VEVENT
DTSTART;TZID=America/Los_Angeles:20200506T190000
DTEND;TZID=America/Los_Angeles:20200506T190000
DTSTAMP:20260419T065633
CREATED:20200406T203725Z
LAST-MODIFIED:20200501T001222Z
UID:10000396-1588791600-1588791600@sms.pendleton.k12.or.us
SUMMARY:BroadMay Concert - Canceled
DESCRIPTION:Located at the Vert Auditorium.  Starts at 7:00 p.m.
URL:https://sms.pendleton.k12.or.us/event/broadmay-concert/
CATEGORIES:Pendleton High School
END:VEVENT
END:VCALENDAR